BEGIN:VCALENDAR
VERSION:2.0
PRODID:-//AusschreibungsRadar//Timeline//DE
CALSCALE:GREGORIAN
METHOD:PUBLISH
X-WR-CALNAME:Projekt Sanierung von Teilen des denkmalgeschützten Klosters Eberbac
X-WR-TIMEZONE:Europe/Berlin
BEGIN:VEVENT
UID:82196b04840df702@ausschreibungsradar.com
DTSTAMP:20260425T135154Z
DTSTART;VALUE=DATE:20240620
DTEND;VALUE=DATE:20240620
SUMMARY:Angebotsfrist — Sanierung von Teilen des denkmalgeschützten Klosters Eberbac
DESCRIPTION:Phase: Ausschreibung | Beschreibung: Angebote werden eingeholt | Link: https://ausschreibungsradar.com/ausschreibung/f4ddc649-b99c-446f-b99c-21acc93b9e07/
URL:https://ausschreibungsradar.com/ausschreibung/f4ddc649-b99c-446f-b99c-21acc93b9e07/
END:VEVENT
BEGIN:VEVENT
UID:98afb38aff4c2dd4@ausschreibungsradar.com
DTSTAMP:20260425T135154Z
DTSTART;VALUE=DATE:20240429
DTEND;VALUE=DATE:20240429
SUMMARY:Ausschreibung — Sanierung von Teilen des denkmalgeschützten Klosters Eberbac
DESCRIPTION:Phase: Ausschreibung | Beschreibung: Offizielle Ausschreibung mit Bieterfrist. | Link: https://ausschreibungsradar.com/ausschreibung/428c476b-be22-4fb2-be15-f2949b96704e/
URL:https://ausschreibungsradar.com/ausschreibung/428c476b-be22-4fb2-be15-f2949b96704e/
END:VEVENT
BEGIN:VEVENT
UID:2b69864ad9873e5e@ausschreibungsradar.com
DTSTAMP:20260425T135154Z
DTSTART;VALUE=DATE:20240430
DTEND;VALUE=DATE:20240430
SUMMARY:Ausschreibung — Sanierung von Teilen des denkmalgeschützten Klosters Eberbac
DESCRIPTION:Phase: Ausschreibung | Beschreibung: Offizielle Ausschreibung mit Bieterfrist. | Link: https://ausschreibungsradar.com/ausschreibung/ted-256031-2024/
URL:https://ausschreibungsradar.com/ausschreibung/ted-256031-2024/
END:VEVENT
BEGIN:VEVENT
UID:b7603742fe190b66@ausschreibungsradar.com
DTSTAMP:20260425T135154Z
DTSTART;VALUE=DATE:20240820
DTEND;VALUE=DATE:20240820
SUMMARY:Vergabeergebnis — Sanierung von Teilen des denkmalgeschützten Klosters Eberbac
DESCRIPTION:Phase: Vergabeergebnis | Beschreibung: Auftrag wurde zugeschlagen | Link: https://ausschreibungsradar.com/ausschreibung/9b0a0b69-1043-424c-a66f-98fbc2bddd2b/
URL:https://ausschreibungsradar.com/ausschreibung/9b0a0b69-1043-424c-a66f-98fbc2bddd2b/
END:VEVENT
END:VCALENDAR
