BEGIN:VCALENDAR
VERSION:2.0
PRODID:-//AusschreibungsRadar//Timeline//DE
CALSCALE:GREGORIAN
METHOD:PUBLISH
X-WR-CALNAME:Projekt ZV - Ahorn - Generalsanierung Johann-Gemmer-Grundschule - Ro
X-WR-TIMEZONE:Europe/Berlin
BEGIN:VEVENT
UID:b0e487833a16f35a@ausschreibungsradar.com
DTSTAMP:20260425T031144Z
DTSTART;VALUE=DATE:20250515
DTEND;VALUE=DATE:20250515
SUMMARY:Angebotsfrist — ZV - Ahorn - Generalsanierung Johann-Gemmer-Grundschule - Ro
DESCRIPTION:Phase: Ausschreibung | Beschreibung: Angebote werden eingeholt | Link: https://ausschreibungsradar.com/ausschreibung/f4ed9c3b-338e-4cfa-a360-9c0637b546d7/
URL:https://ausschreibungsradar.com/ausschreibung/f4ed9c3b-338e-4cfa-a360-9c0637b546d7/
END:VEVENT
BEGIN:VEVENT
UID:2da49edaaf041eaa@ausschreibungsradar.com
DTSTAMP:20260425T031144Z
DTSTART;VALUE=DATE:20250428
DTEND;VALUE=DATE:20250428
SUMMARY:Ausschreibung — ZV - Ahorn - Generalsanierung Johann-Gemmer-Grundschule - Ro
DESCRIPTION:Phase: Ausschreibung | Beschreibung: Offizielle Ausschreibung mit Bieterfrist. | Link: https://ausschreibungsradar.com/ausschreibung/5d5f6801-ead3-4190-ba32-59e3bd72707a/
URL:https://ausschreibungsradar.com/ausschreibung/5d5f6801-ead3-4190-ba32-59e3bd72707a/
END:VEVENT
BEGIN:VEVENT
UID:c7ef1098411ab92a@ausschreibungsradar.com
DTSTAMP:20260425T031144Z
DTSTART;VALUE=DATE:20250513
DTEND;VALUE=DATE:20250513
SUMMARY:Ausschreibung — ZV - Ahorn - Generalsanierung Johann-Gemmer-Grundschule - Ro
DESCRIPTION:Phase: Ausschreibung | Beschreibung: Offizielle Ausschreibung mit Bieterfrist. | Link: https://ausschreibungsradar.com/ausschreibung/2ed9789f-41d1-4b41-866a-3327da381d10/
URL:https://ausschreibungsradar.com/ausschreibung/2ed9789f-41d1-4b41-866a-3327da381d10/
END:VEVENT
BEGIN:VEVENT
UID:4605cace18485736@ausschreibungsradar.com
DTSTAMP:20260425T031144Z
DTSTART;VALUE=DATE:20250606
DTEND;VALUE=DATE:20250606
SUMMARY:Vergabeergebnis — ZV - Ahorn - Generalsanierung Johann-Gemmer-Grundschule - Ro
DESCRIPTION:Phase: Vergabeergebnis | Beschreibung: Bedarf hat sich geändert | Link: https://ausschreibungsradar.com/ausschreibung/4786fc86-a32c-4ae2-ae4c-9e69d789e6a5/
URL:https://ausschreibungsradar.com/ausschreibung/4786fc86-a32c-4ae2-ae4c-9e69d789e6a5/
END:VEVENT
END:VCALENDAR
