BEGIN:VCALENDAR
VERSION:2.0
PRODID:-//AusschreibungsRadar//Timeline//DE
CALSCALE:GREGORIAN
METHOD:PUBLISH
X-WR-CALNAME:Projekt DBG Fenster, PR-Fassade, Sonnenschutz
X-WR-TIMEZONE:Europe/Berlin
BEGIN:VEVENT
UID:349f28091b8f2589@ausschreibungsradar.com
DTSTAMP:20260425T151756Z
DTSTART;VALUE=DATE:20241107
DTEND;VALUE=DATE:20241107
SUMMARY:Angebotsfrist — DBG Fenster\, PR-Fassade\, Sonnenschutz
DESCRIPTION:Phase: Ausschreibung | Beschreibung: Angebote werden eingeholt | Link: https://ausschreibungsradar.com/ausschreibung/f4f50864-d4ac-4a3a-9c33-c3b4517928b4/
URL:https://ausschreibungsradar.com/ausschreibung/f4f50864-d4ac-4a3a-9c33-c3b4517928b4/
END:VEVENT
END:VCALENDAR
