BEGIN:VCALENDAR
VERSION:2.0
PRODID:-//AusschreibungsRadar//Timeline//DE
CALSCALE:GREGORIAN
METHOD:PUBLISH
X-WR-CALNAME:Projekt Neubau Klinik Hohe Mark, 3. Bauabschnitt, Gewerk: Tapezier- 
X-WR-TIMEZONE:Europe/Berlin
BEGIN:VEVENT
UID:f985ea6393e196ef@ausschreibungsradar.com
DTSTAMP:20260426T002810Z
DTSTART;VALUE=DATE:20250217
DTEND;VALUE=DATE:20250217
SUMMARY:Angebotsfrist — Neubau Klinik Hohe Mark\, 3. Bauabschnitt\, Gewerk: Tapezier- 
DESCRIPTION:Phase: Ausschreibung | Beschreibung: Angebote werden eingeholt | Link: https://ausschreibungsradar.com/ausschreibung/9c4fdbe0-d8d0-45ce-85a1-8a7ed577db7d/
URL:https://ausschreibungsradar.com/ausschreibung/9c4fdbe0-d8d0-45ce-85a1-8a7ed577db7d/
END:VEVENT
BEGIN:VEVENT
UID:1a9c894a5937f09b@ausschreibungsradar.com
DTSTAMP:20260426T002810Z
DTSTART;VALUE=DATE:20250409
DTEND;VALUE=DATE:20250409
SUMMARY:Zuschlag — Neubau Klinik Hohe Mark\, 3. Bauabschnitt\, Gewerk: Tapezier- 
DESCRIPTION:Phase: Zuschlag | Beschreibung: Vergabeergebnis — Auftrag wurde erteilt oder Verfahren beendet. | Link: https://ausschreibungsradar.com/ausschreibung/e8c27a4a-2279-4ec5-b8a6-d355ebf784af/
URL:https://ausschreibungsradar.com/ausschreibung/e8c27a4a-2279-4ec5-b8a6-d355ebf784af/
END:VEVENT
BEGIN:VEVENT
UID:172137c97432bb17@ausschreibungsradar.com
DTSTAMP:20260426T002810Z
DTSTART;VALUE=DATE:20250410
DTEND;VALUE=DATE:20250410
SUMMARY:Vergabeergebnis — Neubau Klinik Hohe Mark\, 3. Bauabschnitt\, Gewerk: Tapezier- 
DESCRIPTION:Phase: Vergabeergebnis | Beschreibung: Auftrag wurde zugeschlagen | Link: https://ausschreibungsradar.com/ausschreibung/f4ff2d0a-2d9d-4dee-84bb-f3abaa7eb76b/
URL:https://ausschreibungsradar.com/ausschreibung/f4ff2d0a-2d9d-4dee-84bb-f3abaa7eb76b/
END:VEVENT
END:VCALENDAR
