BEGIN:VCALENDAR
VERSION:2.0
PRODID:-//AusschreibungsRadar//Timeline//DE
CALSCALE:GREGORIAN
METHOD:PUBLISH
X-WR-CALNAME:Projekt Prüfleistung für die wiederkehrende Prüfung von Aufzugsanlag
X-WR-TIMEZONE:Europe/Berlin
BEGIN:VEVENT
UID:34aad39d90d6d2c2@ausschreibungsradar.com
DTSTAMP:20260425T020226Z
DTSTART;VALUE=DATE:20251204
DTEND;VALUE=DATE:20251204
SUMMARY:Angebotsfrist — Prüfleistung für die wiederkehrende Prüfung von Aufzugsanlag
DESCRIPTION:Phase: Ausschreibung | Beschreibung: Angebote werden eingeholt | Link: https://ausschreibungsradar.com/ausschreibung/475a46aa-be25-4583-a4ba-6389dcc18f04/
URL:https://ausschreibungsradar.com/ausschreibung/475a46aa-be25-4583-a4ba-6389dcc18f04/
END:VEVENT
BEGIN:VEVENT
UID:e2d8e2bf7487cb16@ausschreibungsradar.com
DTSTAMP:20260425T020226Z
DTSTART;VALUE=DATE:20260210
DTEND;VALUE=DATE:20260210
SUMMARY:Vergabeergebnis — Prüfleistung für die wiederkehrende Prüfung von Aufzugsanlag
DESCRIPTION:Phase: Vergabeergebnis | Beschreibung: Auftrag wurde zugeschlagen | Link: https://ausschreibungsradar.com/ausschreibung/f5395810-6b96-436e-ba30-9074f6b892df/ | Auftragnehmer: DEKRA Automobil GmbH
URL:https://ausschreibungsradar.com/ausschreibung/f5395810-6b96-436e-ba30-9074f6b892df/
END:VEVENT
END:VCALENDAR
