BEGIN:VCALENDAR
VERSION:2.0
PRODID:-//AusschreibungsRadar//Timeline//DE
CALSCALE:GREGORIAN
METHOD:PUBLISH
X-WR-CALNAME:Projekt BLB Aachen | Ruhr Universität Bochum (RUB) | Forschungsbau E
X-WR-TIMEZONE:Europe/Berlin
BEGIN:VEVENT
UID:e0e578675782b0c8@ausschreibungsradar.com
DTSTAMP:20260426T022025Z
DTSTART;VALUE=DATE:20251110
DTEND;VALUE=DATE:20251110
SUMMARY:Zuschlag — BLB Aachen | Ruhr Universität Bochum (RUB) | Forschungsbau E
DESCRIPTION:Phase: Zuschlag | Beschreibung: Vergabeergebnis — Auftrag wurde erteilt oder Verfahren beendet. | Link: https://ausschreibungsradar.com/ausschreibung/f575be52-98a7-46ab-94bd-c64a6a3685b1/ | Geschätzte
URL:https://ausschreibungsradar.com/ausschreibung/f575be52-98a7-46ab-94bd-c64a6a3685b1/
END:VEVENT
BEGIN:VEVENT
UID:abb3d67dbeba102e@ausschreibungsradar.com
DTSTAMP:20260426T022025Z
DTSTART;VALUE=DATE:20251202
DTEND;VALUE=DATE:20251202
SUMMARY:Ausschreibung — BLB Aachen | Ruhr Universität Bochum (RUB) | Forschungsbau E
DESCRIPTION:Phase: Ausschreibung | Beschreibung: Offizielle Ausschreibung mit Bieterfrist. | Link: https://ausschreibungsradar.com/ausschreibung/18d031ac-68ec-47da-beb3-c3e66703e9e4/
URL:https://ausschreibungsradar.com/ausschreibung/18d031ac-68ec-47da-beb3-c3e66703e9e4/
END:VEVENT
BEGIN:VEVENT
UID:024dbe1f546dba80@ausschreibungsradar.com
DTSTAMP:20260426T022025Z
DTSTART;VALUE=DATE:20251210
DTEND;VALUE=DATE:20251210
SUMMARY:Zuschlag — BLB Aachen | Ruhr Universität Bochum (RUB) | Forschungsbau E
DESCRIPTION:Phase: Zuschlag | Beschreibung: Vergabeergebnis — Auftrag wurde erteilt oder Verfahren beendet. | Link: https://ausschreibungsradar.com/ausschreibung/1772a498-7b46-4c2a-8db2-079b292b3c98/
URL:https://ausschreibungsradar.com/ausschreibung/1772a498-7b46-4c2a-8db2-079b292b3c98/
END:VEVENT
END:VCALENDAR
