BEGIN:VCALENDAR
VERSION:2.0
PRODID:-//AusschreibungsRadar//Timeline//DE
CALSCALE:GREGORIAN
METHOD:PUBLISH
X-WR-CALNAME:Projekt Modernisierung der RZ-Infrastruktur
X-WR-TIMEZONE:Europe/Berlin
BEGIN:VEVENT
UID:86a9bcf9e6bf1719@ausschreibungsradar.com
DTSTAMP:20260425T003841Z
DTSTART;VALUE=DATE:20250410
DTEND;VALUE=DATE:20250410
SUMMARY:Ausschreibung — Modernisierung der RZ-Infrastruktur
DESCRIPTION:Phase: Ausschreibung | Beschreibung: Angebote werden eingeholt | Link: https://ausschreibungsradar.com/ausschreibung/f585ef86-7879-4682-b9be-3c0b774c346f/
URL:https://ausschreibungsradar.com/ausschreibung/f585ef86-7879-4682-b9be-3c0b774c346f/
END:VEVENT
BEGIN:VEVENT
UID:67c9a11a9d54e267@ausschreibungsradar.com
DTSTAMP:20260425T003841Z
DTSTART;VALUE=DATE:20250905
DTEND;VALUE=DATE:20250905
SUMMARY:Vergabeergebnis — Modernisierung der RZ-Infrastruktur
DESCRIPTION:Phase: Vergabeergebnis | Beschreibung: Auftrag wurde zugeschlagen | Link: https://ausschreibungsradar.com/ausschreibung/adb405da-418d-4cf1-919d-6738fbe0479a/
URL:https://ausschreibungsradar.com/ausschreibung/adb405da-418d-4cf1-919d-6738fbe0479a/
END:VEVENT
END:VCALENDAR
