BEGIN:VCALENDAR
VERSION:2.0
PRODID:-//AusschreibungsRadar//Timeline//DE
CALSCALE:GREGORIAN
METHOD:PUBLISH
X-WR-CALNAME:Projekt Der Stadtpark Eisleben: Konzeptionelle Erarbeitung eines Bür
X-WR-TIMEZONE:Europe/Berlin
BEGIN:VEVENT
UID:96452649cbd63863@ausschreibungsradar.com
DTSTAMP:20260425T142800Z
DTSTART;VALUE=DATE:20251020
DTEND;VALUE=DATE:20251020
SUMMARY:Ausschreibung — Der Stadtpark Eisleben: Konzeptionelle Erarbeitung eines Bür
DESCRIPTION:Phase: Ausschreibung | Beschreibung: Angebote werden eingeholt | Link: https://ausschreibungsradar.com/ausschreibung/f58e90f9-459b-4eac-92f6-ed75efab7e10/
URL:https://ausschreibungsradar.com/ausschreibung/f58e90f9-459b-4eac-92f6-ed75efab7e10/
END:VEVENT
BEGIN:VEVENT
UID:1eee4b3d75035170@ausschreibungsradar.com
DTSTAMP:20260425T142800Z
DTSTART;VALUE=DATE:20251020
DTEND;VALUE=DATE:20251020
SUMMARY:Ausschreibung — Der Stadtpark Eisleben: Konzeptionelle Erarbeitung eines Bür
DESCRIPTION:Phase: Ausschreibung | Beschreibung: Offizielle Ausschreibung mit Bieterfrist. | Link: https://ausschreibungsradar.com/ausschreibung/e818a43f-202e-4e34-a6a7-7b46729fbbbd/
URL:https://ausschreibungsradar.com/ausschreibung/e818a43f-202e-4e34-a6a7-7b46729fbbbd/
END:VEVENT
BEGIN:VEVENT
UID:2c676f3ee672edd5@ausschreibungsradar.com
DTSTAMP:20260425T142800Z
DTSTART;VALUE=DATE:20251023
DTEND;VALUE=DATE:20251023
SUMMARY:Ausschreibung — Der Stadtpark Eisleben: Konzeptionelle Erarbeitung eines Bür
DESCRIPTION:Phase: Ausschreibung | Beschreibung: Offizielle Ausschreibung mit Bieterfrist. | Link: https://ausschreibungsradar.com/ausschreibung/5f6a84ea-b147-4237-b398-9b57b3e96ee7/
URL:https://ausschreibungsradar.com/ausschreibung/5f6a84ea-b147-4237-b398-9b57b3e96ee7/
END:VEVENT
END:VCALENDAR
