BEGIN:VCALENDAR
VERSION:2.0
PRODID:-//AusschreibungsRadar//Timeline//DE
CALSCALE:GREGORIAN
METHOD:PUBLISH
X-WR-CALNAME:Projekt Beschaffung eines Gerätewagen-Rüst LOS 1 Teil 1 Fahrgestell,
X-WR-TIMEZONE:Europe/Berlin
BEGIN:VEVENT
UID:b2d56d23186fb50a@ausschreibungsradar.com
DTSTAMP:20260426T010531Z
DTSTART;VALUE=DATE:20240730
DTEND;VALUE=DATE:20240730
SUMMARY:Angebotsfrist — Beschaffung eines Gerätewagen-Rüst LOS 1 Teil 1 Fahrgestell\,
DESCRIPTION:Phase: Ausschreibung | Beschreibung: Angebote werden eingeholt | Link: https://ausschreibungsradar.com/ausschreibung/f59806e5-68e6-4672-b225-49e23ea93850/
URL:https://ausschreibungsradar.com/ausschreibung/f59806e5-68e6-4672-b225-49e23ea93850/
END:VEVENT
BEGIN:VEVENT
UID:acd79281f6c492e4@ausschreibungsradar.com
DTSTAMP:20260426T010531Z
DTSTART;VALUE=DATE:20240626
DTEND;VALUE=DATE:20240626
SUMMARY:Ausschreibung — Beschaffung eines Gerätewagen-Rüst LOS 1 Teil 1 Fahrgestell\,
DESCRIPTION:Phase: Ausschreibung | Beschreibung: Offizielle Ausschreibung mit Bieterfrist. | Link: https://ausschreibungsradar.com/ausschreibung/ted-379893-2024/
URL:https://ausschreibungsradar.com/ausschreibung/ted-379893-2024/
END:VEVENT
BEGIN:VEVENT
UID:005d64f7f0215e94@ausschreibungsradar.com
DTSTAMP:20260426T010531Z
DTSTART;VALUE=DATE:20241022
DTEND;VALUE=DATE:20241022
SUMMARY:Vergabeergebnis — Beschaffung eines Gerätewagen-Rüst LOS 1 Teil 1 Fahrgestell\,
DESCRIPTION:Phase: Vergabeergebnis | Beschreibung: Auftrag wurde zugeschlagen | Link: https://ausschreibungsradar.com/ausschreibung/5f6c8584-c9e8-4375-a8b3-e2297e9d7535/
URL:https://ausschreibungsradar.com/ausschreibung/5f6c8584-c9e8-4375-a8b3-e2297e9d7535/
END:VEVENT
END:VCALENDAR
