BEGIN:VCALENDAR
VERSION:2.0
PRODID:-//AusschreibungsRadar//Timeline//DE
CALSCALE:GREGORIAN
METHOD:PUBLISH
X-WR-CALNAME:Projekt Neubau Kupferblümchen: Los 13 - PV-Anlage
X-WR-TIMEZONE:Europe/Berlin
BEGIN:VEVENT
UID:e6a6b9cfcee97281@ausschreibungsradar.com
DTSTAMP:20260424T063019Z
DTSTART;VALUE=DATE:20250627
DTEND;VALUE=DATE:20250627
SUMMARY:Angebotsfrist — Neubau Kupferblümchen: Los 13 - PV-Anlage
DESCRIPTION:Phase: Ausschreibung | Beschreibung: Angebote werden eingeholt | Link: https://ausschreibungsradar.com/ausschreibung/f5a7c1c8-9b57-45cb-bea4-fcd89c4a101e/
URL:https://ausschreibungsradar.com/ausschreibung/f5a7c1c8-9b57-45cb-bea4-fcd89c4a101e/
END:VEVENT
END:VCALENDAR
