BEGIN:VCALENDAR
VERSION:2.0
PRODID:-//AusschreibungsRadar//Timeline//DE
CALSCALE:GREGORIAN
METHOD:PUBLISH
X-WR-CALNAME:Projekt Austausch eines Hochleistungs-C4-Kuvertiersystems
X-WR-TIMEZONE:Europe/Berlin
BEGIN:VEVENT
UID:3dafb3123bfeea2b@ausschreibungsradar.com
DTSTAMP:20260425T115233Z
DTSTART;VALUE=DATE:20250731
DTEND;VALUE=DATE:20250731
SUMMARY:Angebotsfrist — Austausch eines Hochleistungs-C4-Kuvertiersystems
DESCRIPTION:Phase: Ausschreibung | Beschreibung: Angebote werden eingeholt | Link: https://ausschreibungsradar.com/ausschreibung/f5b0f9f4-bab7-4a4d-9f56-692f203b5738/
URL:https://ausschreibungsradar.com/ausschreibung/f5b0f9f4-bab7-4a4d-9f56-692f203b5738/
END:VEVENT
BEGIN:VEVENT
UID:da282669aa79835b@ausschreibungsradar.com
DTSTAMP:20260425T115233Z
DTSTART;VALUE=DATE:20250825
DTEND;VALUE=DATE:20250825
SUMMARY:Vergabeergebnis — Austausch eines Hochleistungs-C4-Kuvertiersystems
DESCRIPTION:Phase: Vergabeergebnis | Beschreibung: Auftrag wurde zugeschlagen | Link: https://ausschreibungsradar.com/ausschreibung/e9623bb6-0065-4443-ae16-5cf2a476bc98/
URL:https://ausschreibungsradar.com/ausschreibung/e9623bb6-0065-4443-ae16-5cf2a476bc98/
END:VEVENT
END:VCALENDAR
