BEGIN:VCALENDAR
VERSION:2.0
PRODID:-//AusschreibungsRadar//Timeline//DE
CALSCALE:GREGORIAN
METHOD:PUBLISH
X-WR-CALNAME:Projekt POM - Eching - VE09 Aufzugsanlage
X-WR-TIMEZONE:Europe/Berlin
BEGIN:VEVENT
UID:a8bfbff0dcf342c0@ausschreibungsradar.com
DTSTAMP:20260426T004005Z
DTSTART;VALUE=DATE:20250514
DTEND;VALUE=DATE:20250514
SUMMARY:Angebotsfrist — POM - Eching - VE09 Aufzugsanlage
DESCRIPTION:Phase: Ausschreibung | Beschreibung: Angebote werden eingeholt | Link: https://ausschreibungsradar.com/ausschreibung/f5ebbc15-a2b9-4a8d-aa4a-8b7af023786e/
URL:https://ausschreibungsradar.com/ausschreibung/f5ebbc15-a2b9-4a8d-aa4a-8b7af023786e/
END:VEVENT
BEGIN:VEVENT
UID:566241b33af01c9c@ausschreibungsradar.com
DTSTAMP:20260426T004005Z
DTSTART;VALUE=DATE:20250723
DTEND;VALUE=DATE:20250723
SUMMARY:Vergabeergebnis — POM - Eching - VE09 Aufzugsanlage
DESCRIPTION:Phase: Vergabeergebnis | Beschreibung: Auftrag wurde zugeschlagen | Link: https://ausschreibungsradar.com/ausschreibung/6cf8e908-e6c3-4380-b4c8-3d4c3619fd0f/
URL:https://ausschreibungsradar.com/ausschreibung/6cf8e908-e6c3-4380-b4c8-3d4c3619fd0f/
END:VEVENT
END:VCALENDAR
