BEGIN:VCALENDAR
VERSION:2.0
PRODID:-//AusschreibungsRadar//Timeline//DE
CALSCALE:GREGORIAN
METHOD:PUBLISH
X-WR-CALNAME:Projekt Photovoltaik- und Eigenstromversorgungsanlagen -2025Blühwies
X-WR-TIMEZONE:Europe/Berlin
BEGIN:VEVENT
UID:377dc6716aa00872@ausschreibungsradar.com
DTSTAMP:20260424T022623Z
DTSTART;VALUE=DATE:20250826
DTEND;VALUE=DATE:20250826
SUMMARY:Angebotsfrist — Photovoltaik- und Eigenstromversorgungsanlagen -2025Blühwies
DESCRIPTION:Phase: Ausschreibung | Beschreibung: Angebote werden eingeholt | Link: https://ausschreibungsradar.com/ausschreibung/f5f04d7f-e064-4297-9fd7-4af7046271fe/ | Geschätzter Wert: 41467 €
URL:https://ausschreibungsradar.com/ausschreibung/f5f04d7f-e064-4297-9fd7-4af7046271fe/
END:VEVENT
BEGIN:VEVENT
UID:7a6b9b1561665291@ausschreibungsradar.com
DTSTAMP:20260424T022623Z
DTSTART;VALUE=DATE:20250723
DTEND;VALUE=DATE:20250723
SUMMARY:Ausschreibung — Photovoltaik- und Eigenstromversorgungsanlagen -2025Blühwies
DESCRIPTION:Phase: Ausschreibung | Beschreibung: Offizielle Ausschreibung mit Bieterfrist. | Link: https://ausschreibungsradar.com/ausschreibung/8c742a32-042d-4441-afe8-306754b2bc8d/
URL:https://ausschreibungsradar.com/ausschreibung/8c742a32-042d-4441-afe8-306754b2bc8d/
END:VEVENT
BEGIN:VEVENT
UID:c8b34b3a837a30a8@ausschreibungsradar.com
DTSTAMP:20260424T022623Z
DTSTART;VALUE=DATE:20250930
DTEND;VALUE=DATE:20250930
SUMMARY:Vergabeergebnis — Photovoltaik- und Eigenstromversorgungsanlagen -2025Blühwies
DESCRIPTION:Phase: Vergabeergebnis | Beschreibung: Auftrag wurde zugeschlagen | Link: https://ausschreibungsradar.com/ausschreibung/ff4d09ff-4aef-43d2-89df-d2f03cc08a90/ | Auftragnehmer: Budde Solar GmbH
URL:https://ausschreibungsradar.com/ausschreibung/ff4d09ff-4aef-43d2-89df-d2f03cc08a90/
END:VEVENT
END:VCALENDAR
