BEGIN:VCALENDAR
VERSION:2.0
PRODID:-//AusschreibungsRadar//Timeline//DE
CALSCALE:GREGORIAN
METHOD:PUBLISH
X-WR-CALNAME:Projekt Malerarbeiten West
X-WR-TIMEZONE:Europe/Berlin
BEGIN:VEVENT
UID:4839b3edcfeb7072@ausschreibungsradar.com
DTSTAMP:20260424T120955Z
DTSTART;VALUE=DATE:20241024
DTEND;VALUE=DATE:20241024
SUMMARY:Angebotsfrist — Malerarbeiten West
DESCRIPTION:Phase: Ausschreibung | Beschreibung: Angebote werden eingeholt | Link: https://ausschreibungsradar.com/ausschreibung/f6079512-c1da-4848-9ee8-b4cd57eb1327/
URL:https://ausschreibungsradar.com/ausschreibung/f6079512-c1da-4848-9ee8-b4cd57eb1327/
END:VEVENT
BEGIN:VEVENT
UID:00c348badc348811@ausschreibungsradar.com
DTSTAMP:20260424T120955Z
DTSTART;VALUE=DATE:20240917
DTEND;VALUE=DATE:20240917
SUMMARY:Ausschreibung — Malerarbeiten West
DESCRIPTION:Phase: Ausschreibung | Beschreibung: Offizielle Ausschreibung mit Bieterfrist. | Link: https://ausschreibungsradar.com/ausschreibung/22723468/
URL:https://ausschreibungsradar.com/ausschreibung/22723468/
END:VEVENT
END:VCALENDAR
