BEGIN:VCALENDAR
VERSION:2.0
PRODID:-//AusschreibungsRadar//Timeline//DE
CALSCALE:GREGORIAN
METHOD:PUBLISH
X-WR-CALNAME:Projekt Erweiterung und Umbau Grundschule Ahorngrundschule Bergfelde
X-WR-TIMEZONE:Europe/Berlin
BEGIN:VEVENT
UID:5e99c0387ac02284@ausschreibungsradar.com
DTSTAMP:20260425T220942Z
DTSTART;VALUE=DATE:20240311
DTEND;VALUE=DATE:20240311
SUMMARY:Ausschreibung — Erweiterung und Umbau Grundschule Ahorngrundschule Bergfelde
DESCRIPTION:Phase: Ausschreibung | Beschreibung: Offizielle Ausschreibung mit Bieterfrist. | Link: https://ausschreibungsradar.com/ausschreibung/f651d8a7-c599-4a5a-8566-9e2212ef9cc3/
URL:https://ausschreibungsradar.com/ausschreibung/f651d8a7-c599-4a5a-8566-9e2212ef9cc3/
END:VEVENT
BEGIN:VEVENT
UID:b7bc0a4b7b421b60@ausschreibungsradar.com
DTSTAMP:20260425T220942Z
DTSTART;VALUE=DATE:20240313
DTEND;VALUE=DATE:20240313
SUMMARY:Ausschreibung — Erweiterung und Umbau Grundschule Ahorngrundschule Bergfelde
DESCRIPTION:Phase: Ausschreibung | Beschreibung: Offizielle Ausschreibung mit Bieterfrist. | Link: https://ausschreibungsradar.com/ausschreibung/9e4a7ea5-d864-4b96-9377-11e8ceeda928/
URL:https://ausschreibungsradar.com/ausschreibung/9e4a7ea5-d864-4b96-9377-11e8ceeda928/
END:VEVENT
END:VCALENDAR
