BEGIN:VCALENDAR
VERSION:2.0
PRODID:-//AusschreibungsRadar//Timeline//DE
CALSCALE:GREGORIAN
METHOD:PUBLISH
X-WR-CALNAME:Projekt Abschleppleistungen und Sicherstellungen von Kraftfahrzeugen
X-WR-TIMEZONE:Europe/Berlin
BEGIN:VEVENT
UID:9363d471d5a5888b@ausschreibungsradar.com
DTSTAMP:20260426T043800Z
DTSTART;VALUE=DATE:20250212
DTEND;VALUE=DATE:20250212
SUMMARY:Angebotsfrist — Abschleppleistungen und Sicherstellungen von Kraftfahrzeugen
DESCRIPTION:Phase: Ausschreibung | Beschreibung: Angebote werden eingeholt | Link: https://ausschreibungsradar.com/ausschreibung/f66ca609-5a7b-4eb8-82ad-502aec70953b/
URL:https://ausschreibungsradar.com/ausschreibung/f66ca609-5a7b-4eb8-82ad-502aec70953b/
END:VEVENT
BEGIN:VEVENT
UID:ba1e7925d001791e@ausschreibungsradar.com
DTSTAMP:20260426T043800Z
DTSTART;VALUE=DATE:20241202
DTEND;VALUE=DATE:20241202
SUMMARY:Ausschreibung — Abschleppleistungen und Sicherstellungen von Kraftfahrzeugen
DESCRIPTION:Phase: Ausschreibung | Beschreibung: Offizielle Ausschreibung mit Bieterfrist. | Link: https://ausschreibungsradar.com/ausschreibung/fc9e4a11-7ec4-4fa7-be90-056e1add8e13/
URL:https://ausschreibungsradar.com/ausschreibung/fc9e4a11-7ec4-4fa7-be90-056e1add8e13/
END:VEVENT
BEGIN:VEVENT
UID:113ebbc8300a5e5d@ausschreibungsradar.com
DTSTAMP:20260426T043800Z
DTSTART;VALUE=DATE:20241223
DTEND;VALUE=DATE:20241223
SUMMARY:Ausschreibung — Abschleppleistungen und Sicherstellungen von Kraftfahrzeugen
DESCRIPTION:Phase: Ausschreibung | Beschreibung: Offizielle Ausschreibung mit Bieterfrist. | Link: https://ausschreibungsradar.com/ausschreibung/ted-787857-2024/
URL:https://ausschreibungsradar.com/ausschreibung/ted-787857-2024/
END:VEVENT
END:VCALENDAR
