BEGIN:VCALENDAR
VERSION:2.0
PRODID:-//AusschreibungsRadar//Timeline//DE
CALSCALE:GREGORIAN
METHOD:PUBLISH
X-WR-CALNAME:Projekt Umnutzung ehem. Schlachthofgebäude, Planung Techn. Ausrüstun
X-WR-TIMEZONE:Europe/Berlin
BEGIN:VEVENT
UID:c9e2aef3573b1fcb@ausschreibungsradar.com
DTSTAMP:20260424T105624Z
DTSTART;VALUE=DATE:20251215
DTEND;VALUE=DATE:20251215
SUMMARY:Angebotsfrist — Umnutzung ehem. Schlachthofgebäude\, Planung Techn. Ausrüstun
DESCRIPTION:Phase: Ausschreibung | Beschreibung: Angebote werden eingeholt | Link: https://ausschreibungsradar.com/ausschreibung/220ec69c-06f4-4ef8-81da-df2ce3435853/
URL:https://ausschreibungsradar.com/ausschreibung/220ec69c-06f4-4ef8-81da-df2ce3435853/
END:VEVENT
BEGIN:VEVENT
UID:09be07530e728f33@ausschreibungsradar.com
DTSTAMP:20260424T105624Z
DTSTART;VALUE=DATE:20260420
DTEND;VALUE=DATE:20260420
SUMMARY:Vergabeergebnis — Umnutzung ehem. Schlachthofgebäude\, Planung Techn. Ausrüstun
DESCRIPTION:Phase: Vergabeergebnis | Beschreibung: Auftrag wurde zugeschlagen | Link: https://ausschreibungsradar.com/ausschreibung/f7003538-5666-495c-8e5a-a9010af7036d/
URL:https://ausschreibungsradar.com/ausschreibung/f7003538-5666-495c-8e5a-a9010af7036d/
END:VEVENT
BEGIN:VEVENT
UID:c68a06f14d1ef760@ausschreibungsradar.com
DTSTAMP:20260424T105624Z
DTSTART;VALUE=DATE:20260421
DTEND;VALUE=DATE:20260421
SUMMARY:Zuschlag — Umnutzung ehem. Schlachthofgebäude\, Planung Techn. Ausrüstun
DESCRIPTION:Phase: Zuschlag | Beschreibung: Vergabeergebnis — Auftrag wurde erteilt oder Verfahren beendet. | Link: https://ausschreibungsradar.com/ausschreibung/ted-271042-2026/
URL:https://ausschreibungsradar.com/ausschreibung/ted-271042-2026/
END:VEVENT
END:VCALENDAR
