BEGIN:VCALENDAR
VERSION:2.0
PRODID:-//AusschreibungsRadar//Timeline//DE
CALSCALE:GREGORIAN
METHOD:PUBLISH
X-WR-CALNAME:Projekt Heizungsinstallation  Turnhallen Pfeffenhausen
X-WR-TIMEZONE:Europe/Berlin
BEGIN:VEVENT
UID:b770db52f7fff62a@ausschreibungsradar.com
DTSTAMP:20260425T102722Z
DTSTART;VALUE=DATE:20250722
DTEND;VALUE=DATE:20250722
SUMMARY:Angebotsfrist — Heizungsinstallation  Turnhallen Pfeffenhausen
DESCRIPTION:Phase: Ausschreibung | Beschreibung: Angebote werden eingeholt | Link: https://ausschreibungsradar.com/ausschreibung/f7559e62-3ad7-4ed3-a3b7-389090e15d7e/
URL:https://ausschreibungsradar.com/ausschreibung/f7559e62-3ad7-4ed3-a3b7-389090e15d7e/
END:VEVENT
BEGIN:VEVENT
UID:d861e98ced0d2ca8@ausschreibungsradar.com
DTSTAMP:20260425T102722Z
DTSTART;VALUE=DATE:20250621
DTEND;VALUE=DATE:20250621
SUMMARY:Ausschreibung — Heizungsinstallation  Turnhallen Pfeffenhausen
DESCRIPTION:Phase: Ausschreibung | Beschreibung: Offizielle Ausschreibung mit Bieterfrist. | Link: https://ausschreibungsradar.com/ausschreibung/247b681d-1254-4ad0-9db4-d876aa676531/
URL:https://ausschreibungsradar.com/ausschreibung/247b681d-1254-4ad0-9db4-d876aa676531/
END:VEVENT
END:VCALENDAR
