BEGIN:VCALENDAR
VERSION:2.0
PRODID:-//AusschreibungsRadar//Timeline//DE
CALSCALE:GREGORIAN
METHOD:PUBLISH
X-WR-CALNAME:Projekt Sanierung der Grund- und Mittelschule Lam; Fliesenarbeiten (
X-WR-TIMEZONE:Europe/Berlin
BEGIN:VEVENT
UID:891033108daf8872@ausschreibungsradar.com
DTSTAMP:20260425T134903Z
DTSTART;VALUE=DATE:20260417
DTEND;VALUE=DATE:20260417
SUMMARY:Ausschreibung — Sanierung der Grund- und Mittelschule Lam\; Fliesenarbeiten (
DESCRIPTION:Phase: Ausschreibung | Beschreibung: Offizielle Ausschreibung mit Bieterfrist. | Link: https://ausschreibungsradar.com/ausschreibung/fa290e99-1a32-4041-a457-edffc3bd9f4b/
URL:https://ausschreibungsradar.com/ausschreibung/fa290e99-1a32-4041-a457-edffc3bd9f4b/
END:VEVENT
BEGIN:VEVENT
UID:37dbcca974d498e6@ausschreibungsradar.com
DTSTAMP:20260425T134903Z
DTSTART;VALUE=DATE:20260520
DTEND;VALUE=DATE:20260520
SUMMARY:Angebotsfrist — Sanierung der Grund- und Mittelschule Lam\; Fliesenarbeiten (
DESCRIPTION:Phase: Ausschreibung | Beschreibung: Angebote werden eingeholt | Link: https://ausschreibungsradar.com/ausschreibung/f7610d19-7c16-4a79-9786-5d3f02e1f22c/
URL:https://ausschreibungsradar.com/ausschreibung/f7610d19-7c16-4a79-9786-5d3f02e1f22c/
END:VEVENT
END:VCALENDAR
