BEGIN:VCALENDAR
VERSION:2.0
PRODID:-//AusschreibungsRadar//Timeline//DE
CALSCALE:GREGORIAN
METHOD:PUBLISH
X-WR-CALNAME:Projekt Universität Leipzig, Neubau Transferhub für Wirstoffentwickl
X-WR-TIMEZONE:Europe/Berlin
BEGIN:VEVENT
UID:c639c22ec5ca5d4b@ausschreibungsradar.com
DTSTAMP:20260426T013219Z
DTSTART;VALUE=DATE:20250805
DTEND;VALUE=DATE:20250805
SUMMARY:Angebotsfrist — Universität Leipzig\, Neubau Transferhub für Wirstoffentwickl
DESCRIPTION:Phase: Ausschreibung | Beschreibung: Angebote werden eingeholt | Link: https://ausschreibungsradar.com/ausschreibung/eb1a3874-e057-4b83-bdda-f964833b46ee/
URL:https://ausschreibungsradar.com/ausschreibung/eb1a3874-e057-4b83-bdda-f964833b46ee/
END:VEVENT
BEGIN:VEVENT
UID:fc69ed08b02986b8@ausschreibungsradar.com
DTSTAMP:20260426T013219Z
DTSTART;VALUE=DATE:20250619
DTEND;VALUE=DATE:20250619
SUMMARY:Ausschreibung — Universität Leipzig\, Neubau Transferhub für Wirstoffentwickl
DESCRIPTION:Phase: Ausschreibung | Beschreibung: Offizielle Ausschreibung mit Bieterfrist. | Link: https://ausschreibungsradar.com/ausschreibung/6e33f828-fdd3-4515-a220-96c72a4c5603/
URL:https://ausschreibungsradar.com/ausschreibung/6e33f828-fdd3-4515-a220-96c72a4c5603/
END:VEVENT
BEGIN:VEVENT
UID:6ad6a84566ef373e@ausschreibungsradar.com
DTSTAMP:20260426T013219Z
DTSTART;VALUE=DATE:20250903
DTEND;VALUE=DATE:20250903
SUMMARY:Zuschlag — Universität Leipzig\, Neubau Transferhub für Wirstoffentwickl
DESCRIPTION:Phase: Zuschlag | Beschreibung: Vergabeergebnis — Auftrag wurde erteilt oder Verfahren beendet. | Link: https://ausschreibungsradar.com/ausschreibung/85e3a33f-1794-4142-82b8-447ffb1cc250/
URL:https://ausschreibungsradar.com/ausschreibung/85e3a33f-1794-4142-82b8-447ffb1cc250/
END:VEVENT
BEGIN:VEVENT
UID:cbf00fbeb5e4fa62@ausschreibungsradar.com
DTSTAMP:20260426T013219Z
DTSTART;VALUE=DATE:20251001
DTEND;VALUE=DATE:20251001
SUMMARY:Vergabeergebnis — Universität Leipzig\, Neubau Transferhub für Wirstoffentwickl
DESCRIPTION:Phase: Vergabeergebnis | Beschreibung: Auftrag wurde zugeschlagen | Link: https://ausschreibungsradar.com/ausschreibung/f78ceb31-075c-4da4-a646-15e3e08bb5e9/
URL:https://ausschreibungsradar.com/ausschreibung/f78ceb31-075c-4da4-a646-15e3e08bb5e9/
END:VEVENT
END:VCALENDAR
