BEGIN:VCALENDAR
VERSION:2.0
PRODID:-//AusschreibungsRadar//Timeline//DE
CALSCALE:GREGORIAN
METHOD:PUBLISH
X-WR-CALNAME:Projekt Stadt Sindelfingen - Europaweite Vergabe von Projektsteuerun
X-WR-TIMEZONE:Europe/Berlin
BEGIN:VEVENT
UID:2b23d1a5b24adc6e@ausschreibungsradar.com
DTSTAMP:20260424T132510Z
DTSTART;VALUE=DATE:20240226
DTEND;VALUE=DATE:20240226
SUMMARY:Ausschreibung — Stadt Sindelfingen - Europaweite Vergabe von Projektsteuerun
DESCRIPTION:Phase: Ausschreibung | Beschreibung: Angebote werden eingeholt | Link: https://ausschreibungsradar.com/ausschreibung/f7e2eeb7-759c-44f1-bbf2-e5cd252973ca/
URL:https://ausschreibungsradar.com/ausschreibung/f7e2eeb7-759c-44f1-bbf2-e5cd252973ca/
END:VEVENT
BEGIN:VEVENT
UID:9fc39098115648a1@ausschreibungsradar.com
DTSTAMP:20260424T132510Z
DTSTART;VALUE=DATE:20240801
DTEND;VALUE=DATE:20240801
SUMMARY:Vergabeergebnis — Stadt Sindelfingen - Europaweite Vergabe von Projektsteuerun
DESCRIPTION:Phase: Vergabeergebnis | Beschreibung: Auftrag wurde zugeschlagen | Link: https://ausschreibungsradar.com/ausschreibung/fe9bab02-a219-4f93-a95b-503d8614b289/
URL:https://ausschreibungsradar.com/ausschreibung/fe9bab02-a219-4f93-a95b-503d8614b289/
END:VEVENT
END:VCALENDAR
