BEGIN:VCALENDAR
VERSION:2.0
PRODID:-//AusschreibungsRadar//Timeline//DE
CALSCALE:GREGORIAN
METHOD:PUBLISH
X-WR-CALNAME:Projekt Aluminium-Türelemente - Umbau und Erweiterung GS Bierden
X-WR-TIMEZONE:Europe/Berlin
BEGIN:VEVENT
UID:80e190e3842a8f6e@ausschreibungsradar.com
DTSTAMP:20260424T091239Z
DTSTART;VALUE=DATE:20251204
DTEND;VALUE=DATE:20251204
SUMMARY:Ausschreibung — Aluminium-Türelemente - Umbau und Erweiterung GS Bierden
DESCRIPTION:Phase: Ausschreibung | Beschreibung: Angebote werden eingeholt | Link: https://ausschreibungsradar.com/ausschreibung/f7f7d13c-1fda-4268-906c-ff7b040a2470/
URL:https://ausschreibungsradar.com/ausschreibung/f7f7d13c-1fda-4268-906c-ff7b040a2470/
END:VEVENT
BEGIN:VEVENT
UID:1de8a84a941b7e4d@ausschreibungsradar.com
DTSTAMP:20260424T091239Z
DTSTART;VALUE=DATE:20251204
DTEND;VALUE=DATE:20251204
SUMMARY:Ausschreibung — Aluminium-Türelemente - Umbau und Erweiterung GS Bierden
DESCRIPTION:Phase: Ausschreibung | Beschreibung: Offizielle Ausschreibung mit Bieterfrist. | Link: https://ausschreibungsradar.com/ausschreibung/a92eba62-3083-4801-9303-a9b011179557/
URL:https://ausschreibungsradar.com/ausschreibung/a92eba62-3083-4801-9303-a9b011179557/
END:VEVENT
END:VCALENDAR
