BEGIN:VCALENDAR
VERSION:2.0
PRODID:-//AusschreibungsRadar//Timeline//DE
CALSCALE:GREGORIAN
METHOD:PUBLISH
X-WR-CALNAME:Projekt Fraunhofer IEG Bochum - 70-00262-3840-C Fachplanung Tragwerk
X-WR-TIMEZONE:Europe/Berlin
BEGIN:VEVENT
UID:10191bd184452d61@ausschreibungsradar.com
DTSTAMP:20260426T025211Z
DTSTART;VALUE=DATE:20250321
DTEND;VALUE=DATE:20250321
SUMMARY:Ausschreibung — Fraunhofer IEG Bochum - 70-00262-3840-C Fachplanung Tragwerk
DESCRIPTION:Phase: Ausschreibung | Beschreibung: Offizielle Ausschreibung mit Bieterfrist. | Link: https://ausschreibungsradar.com/ausschreibung/f87002e6-0995-4948-a0d2-bfd9f6a003ba/ | Geschätzter Wert: 229997 €
URL:https://ausschreibungsradar.com/ausschreibung/f87002e6-0995-4948-a0d2-bfd9f6a003ba/
END:VEVENT
BEGIN:VEVENT
UID:6c60ba6ab7d5ae4f@ausschreibungsradar.com
DTSTAMP:20260426T025211Z
DTSTART;VALUE=DATE:20250416
DTEND;VALUE=DATE:20250416
SUMMARY:Ausschreibung — Fraunhofer IEG Bochum - 70-00262-3840-C Fachplanung Tragwerk
DESCRIPTION:Phase: Ausschreibung | Beschreibung: Offizielle Ausschreibung mit Bieterfrist. | Link: https://ausschreibungsradar.com/ausschreibung/ec66fc2d-f161-4540-8a18-07d3e149bc68/
URL:https://ausschreibungsradar.com/ausschreibung/ec66fc2d-f161-4540-8a18-07d3e149bc68/
END:VEVENT
END:VCALENDAR
