BEGIN:VCALENDAR
VERSION:2.0
PRODID:-//AusschreibungsRadar//Timeline//DE
CALSCALE:GREGORIAN
METHOD:PUBLISH
X-WR-CALNAME:Projekt Neu/Umbau Franziska-Streitel-Altenheim - LV 15 Trockenbauarb
X-WR-TIMEZONE:Europe/Berlin
BEGIN:VEVENT
UID:895f035fda53d07d@ausschreibungsradar.com
DTSTAMP:20260425T130257Z
DTSTART;VALUE=DATE:20250210
DTEND;VALUE=DATE:20250210
SUMMARY:Zuschlag — Neu/Umbau Franziska-Streitel-Altenheim - LV 15 Trockenbauarb
DESCRIPTION:Phase: Zuschlag | Beschreibung: Vergabeergebnis — Auftrag wurde erteilt oder Verfahren beendet. | Link: https://ausschreibungsradar.com/ausschreibung/c913cf08-d85a-4536-bca1-c1441f0dfe2e/
URL:https://ausschreibungsradar.com/ausschreibung/c913cf08-d85a-4536-bca1-c1441f0dfe2e/
END:VEVENT
BEGIN:VEVENT
UID:c33c463a068c4bb5@ausschreibungsradar.com
DTSTAMP:20260425T130257Z
DTSTART;VALUE=DATE:20250225
DTEND;VALUE=DATE:20250225
SUMMARY:Zuschlag — Neu/Umbau Franziska-Streitel-Altenheim - LV 15 Trockenbauarb
DESCRIPTION:Phase: Zuschlag | Beschreibung: Vergabeergebnis — Auftrag wurde erteilt oder Verfahren beendet. | Link: https://ausschreibungsradar.com/ausschreibung/f8d88696-99ba-4251-a47a-68d351f7665d/ | Geschätzte
URL:https://ausschreibungsradar.com/ausschreibung/f8d88696-99ba-4251-a47a-68d351f7665d/
END:VEVENT
END:VCALENDAR
