BEGIN:VCALENDAR
VERSION:2.0
PRODID:-//AusschreibungsRadar//Timeline//DE
CALSCALE:GREGORIAN
METHOD:PUBLISH
X-WR-CALNAME:Projekt Beauftragung von Planungsleistungen (Gebäude und Innenräume)
X-WR-TIMEZONE:Europe/Berlin
BEGIN:VEVENT
UID:8d6bd7be3bcb79db@ausschreibungsradar.com
DTSTAMP:20260425T194214Z
DTSTART;VALUE=DATE:20260319
DTEND;VALUE=DATE:20260319
SUMMARY:Zuschlag — Beauftragung von Planungsleistungen (Gebäude und Innenräume)
DESCRIPTION:Phase: Zuschlag | Beschreibung: Vergabeergebnis — Auftrag wurde erteilt oder Verfahren beendet. | Link: https://ausschreibungsradar.com/ausschreibung/ed0cf0dd-501b-4056-a021-f80b1644799e/
URL:https://ausschreibungsradar.com/ausschreibung/ed0cf0dd-501b-4056-a021-f80b1644799e/
END:VEVENT
BEGIN:VEVENT
UID:bb4fbec847b7bf99@ausschreibungsradar.com
DTSTAMP:20260425T194214Z
DTSTART;VALUE=DATE:20260417
DTEND;VALUE=DATE:20260417
SUMMARY:Ausschreibung — Beauftragung von Planungsleistungen (Gebäude und Innenräume)
DESCRIPTION:Phase: Ausschreibung | Beschreibung: Offizielle Ausschreibung mit Bieterfrist. | Link: https://ausschreibungsradar.com/ausschreibung/f9075da1-8b4c-42f4-a729-b434fa45e374/ | Geschätzter Wert: 281900 €
URL:https://ausschreibungsradar.com/ausschreibung/f9075da1-8b4c-42f4-a729-b434fa45e374/
END:VEVENT
BEGIN:VEVENT
UID:f34eca1cca172ddc@ausschreibungsradar.com
DTSTAMP:20260425T194214Z
DTSTART;VALUE=DATE:20260420
DTEND;VALUE=DATE:20260420
SUMMARY:Ausschreibung — Beauftragung von Planungsleistungen (Gebäude und Innenräume)
DESCRIPTION:Phase: Ausschreibung | Beschreibung: Offizielle Ausschreibung mit Bieterfrist. | Link: https://ausschreibungsradar.com/ausschreibung/ted-266612-2026/
URL:https://ausschreibungsradar.com/ausschreibung/ted-266612-2026/
END:VEVENT
END:VCALENDAR
