BEGIN:VCALENDAR
VERSION:2.0
PRODID:-//AusschreibungsRadar//Timeline//DE
CALSCALE:GREGORIAN
METHOD:PUBLISH
X-WR-CALNAME:Projekt Rahmenvereinbarung zur Lieferung von Natronlauge 50% techn. 
X-WR-TIMEZONE:Europe/Berlin
BEGIN:VEVENT
UID:1d3e26e3941b1b54@ausschreibungsradar.com
DTSTAMP:20260425T001831Z
DTSTART;VALUE=DATE:20260122
DTEND;VALUE=DATE:20260122
SUMMARY:Ausschreibung — Rahmenvereinbarung zur Lieferung von Natronlauge 50% techn. 
DESCRIPTION:Phase: Ausschreibung | Beschreibung: Angebote werden eingeholt | Link: https://ausschreibungsradar.com/ausschreibung/f96e14b2-3af2-4fd2-a106-76ba8d8d2633/
URL:https://ausschreibungsradar.com/ausschreibung/f96e14b2-3af2-4fd2-a106-76ba8d8d2633/
END:VEVENT
BEGIN:VEVENT
UID:5c2935b1ba829639@ausschreibungsradar.com
DTSTAMP:20260425T001831Z
DTSTART;VALUE=DATE:20260122
DTEND;VALUE=DATE:20260122
SUMMARY:Ausschreibung — Rahmenvereinbarung zur Lieferung von Natronlauge 50% techn. 
DESCRIPTION:Phase: Ausschreibung | Beschreibung: Offizielle Ausschreibung mit Bieterfrist. | Link: https://ausschreibungsradar.com/ausschreibung/6d821ef5-c34a-41f6-83fa-46d228dd1614/
URL:https://ausschreibungsradar.com/ausschreibung/6d821ef5-c34a-41f6-83fa-46d228dd1614/
END:VEVENT
END:VCALENDAR
