BEGIN:VCALENDAR
VERSION:2.0
PRODID:-//AusschreibungsRadar//Timeline//DE
CALSCALE:GREGORIAN
METHOD:PUBLISH
X-WR-CALNAME:Projekt Bauüberwachung und Analytik für Sanierung und Rückbau der Hä
X-WR-TIMEZONE:Europe/Berlin
BEGIN:VEVENT
UID:350e5233b503fa96@ausschreibungsradar.com
DTSTAMP:20260425T025258Z
DTSTART;VALUE=DATE:20250127
DTEND;VALUE=DATE:20250127
SUMMARY:Angebotsfrist — Bauüberwachung und Analytik für Sanierung und Rückbau der Hä
DESCRIPTION:Phase: Ausschreibung | Beschreibung: Angebote werden eingeholt | Link: https://ausschreibungsradar.com/ausschreibung/f9911f19-b8da-43b7-9322-6669e398dfe3/ | Geschätzter Wert: 16000 €
URL:https://ausschreibungsradar.com/ausschreibung/f9911f19-b8da-43b7-9322-6669e398dfe3/
END:VEVENT
END:VCALENDAR
