BEGIN:VCALENDAR
VERSION:2.0
PRODID:-//AusschreibungsRadar//Timeline//DE
CALSCALE:GREGORIAN
METHOD:PUBLISH
X-WR-CALNAME:Projekt MVF - Neubau Campus
X-WR-TIMEZONE:Europe/Berlin
BEGIN:VEVENT
UID:338883b2cf9da635@ausschreibungsradar.com
DTSTAMP:20260425T013356Z
DTSTART;VALUE=DATE:20240219
DTEND;VALUE=DATE:20240219
SUMMARY:Ausschreibung — MVF - Neubau Campus
DESCRIPTION:Phase: Ausschreibung | Beschreibung: Angebote werden eingeholt | Link: https://ausschreibungsradar.com/ausschreibung/f9cae657-2b43-4073-934a-3aa93db98013/
URL:https://ausschreibungsradar.com/ausschreibung/f9cae657-2b43-4073-934a-3aa93db98013/
END:VEVENT
BEGIN:VEVENT
UID:075b1f0a442dd9da@ausschreibungsradar.com
DTSTAMP:20260425T013356Z
DTSTART;VALUE=DATE:20240219
DTEND;VALUE=DATE:20240219
SUMMARY:Ausschreibung — MVF - Neubau Campus
DESCRIPTION:Phase: Ausschreibung | Beschreibung: Offizielle Ausschreibung mit Bieterfrist. | Link: https://ausschreibungsradar.com/ausschreibung/99f65f9b-81fa-437a-b7a5-55809a7d08a6/
URL:https://ausschreibungsradar.com/ausschreibung/99f65f9b-81fa-437a-b7a5-55809a7d08a6/
END:VEVENT
BEGIN:VEVENT
UID:763cc14d3a223101@ausschreibungsradar.com
DTSTAMP:20260425T013356Z
DTSTART;VALUE=DATE:20240219
DTEND;VALUE=DATE:20240219
SUMMARY:Ausschreibung — MVF - Neubau Campus
DESCRIPTION:Phase: Ausschreibung | Beschreibung: Offizielle Ausschreibung mit Bieterfrist. | Link: https://ausschreibungsradar.com/ausschreibung/5bab15af-4835-45b7-9dcd-fa359b7f833d/
URL:https://ausschreibungsradar.com/ausschreibung/5bab15af-4835-45b7-9dcd-fa359b7f833d/
END:VEVENT
BEGIN:VEVENT
UID:82d363e309073dee@ausschreibungsradar.com
DTSTAMP:20260425T013356Z
DTSTART;VALUE=DATE:20240219
DTEND;VALUE=DATE:20240219
SUMMARY:Ausschreibung — MVF - Neubau Campus
DESCRIPTION:Phase: Ausschreibung | Beschreibung: Offizielle Ausschreibung mit Bieterfrist. | Link: https://ausschreibungsradar.com/ausschreibung/070bbe8e-a775-4562-93c2-28fb99a52b6e/
URL:https://ausschreibungsradar.com/ausschreibung/070bbe8e-a775-4562-93c2-28fb99a52b6e/
END:VEVENT
BEGIN:VEVENT
UID:e9307cb1e72ec78e@ausschreibungsradar.com
DTSTAMP:20260425T013356Z
DTSTART;VALUE=DATE:20240229
DTEND;VALUE=DATE:20240229
SUMMARY:Ausschreibung — MVF - Neubau Campus
DESCRIPTION:Phase: Ausschreibung | Beschreibung: Offizielle Ausschreibung mit Bieterfrist. | Link: https://ausschreibungsradar.com/ausschreibung/c96138fc-41ad-411a-94ab-4c18c447a3aa/
URL:https://ausschreibungsradar.com/ausschreibung/c96138fc-41ad-411a-94ab-4c18c447a3aa/
END:VEVENT
BEGIN:VEVENT
UID:21e7bd968be2dbdb@ausschreibungsradar.com
DTSTAMP:20260425T013356Z
DTSTART;VALUE=DATE:20240811
DTEND;VALUE=DATE:20240811
SUMMARY:Vergabeergebnis — MVF - Neubau Campus
DESCRIPTION:Phase: Vergabeergebnis | Beschreibung: Auftrag wurde zugeschlagen | Link: https://ausschreibungsradar.com/ausschreibung/0eb001d8-275e-4c01-844c-3b7993f02827/
URL:https://ausschreibungsradar.com/ausschreibung/0eb001d8-275e-4c01-844c-3b7993f02827/
END:VEVENT
END:VCALENDAR
