BEGIN:VCALENDAR
VERSION:2.0
PRODID:-//AusschreibungsRadar//Timeline//DE
CALSCALE:GREGORIAN
METHOD:PUBLISH
X-WR-CALNAME:Projekt 438.1 MRV am BK Regensburg - Aufstockung Haus 10 - Gewerk 11
X-WR-TIMEZONE:Europe/Berlin
BEGIN:VEVENT
UID:32d82407f1710a64@ausschreibungsradar.com
DTSTAMP:20260425T110229Z
DTSTART;VALUE=DATE:20260225
DTEND;VALUE=DATE:20260225
SUMMARY:Angebotsfrist — 438.1 MRV am BK Regensburg - Aufstockung Haus 10 - Gewerk 11
DESCRIPTION:Phase: Ausschreibung | Beschreibung: Angebote werden eingeholt | Link: https://ausschreibungsradar.com/ausschreibung/fa211865-010e-418e-947b-12d2a83b2c38/
URL:https://ausschreibungsradar.com/ausschreibung/fa211865-010e-418e-947b-12d2a83b2c38/
END:VEVENT
BEGIN:VEVENT
UID:ec0a208b03e1d467@ausschreibungsradar.com
DTSTAMP:20260425T110229Z
DTSTART;VALUE=DATE:20260119
DTEND;VALUE=DATE:20260119
SUMMARY:Ausschreibung — 438.1 MRV am BK Regensburg - Aufstockung Haus 10 - Gewerk 11
DESCRIPTION:Phase: Ausschreibung | Beschreibung: Offizielle Ausschreibung mit Bieterfrist. | Link: https://ausschreibungsradar.com/ausschreibung/d2ad2372-7065-448c-b902-918881d8e571/
URL:https://ausschreibungsradar.com/ausschreibung/d2ad2372-7065-448c-b902-918881d8e571/
END:VEVENT
BEGIN:VEVENT
UID:b6a2d3465c22f16e@ausschreibungsradar.com
DTSTAMP:20260425T110229Z
DTSTART;VALUE=DATE:20260119
DTEND;VALUE=DATE:20260119
SUMMARY:Ausschreibung — 438.1 MRV am BK Regensburg - Aufstockung Haus 10 - Gewerk 11
DESCRIPTION:Phase: Ausschreibung | Beschreibung: Offizielle Ausschreibung mit Bieterfrist. | Link: https://ausschreibungsradar.com/ausschreibung/48118104-6b7f-4d00-81a2-8b8dda4243d6/
URL:https://ausschreibungsradar.com/ausschreibung/48118104-6b7f-4d00-81a2-8b8dda4243d6/
END:VEVENT
END:VCALENDAR
