BEGIN:VCALENDAR
VERSION:2.0
PRODID:-//AusschreibungsRadar//Timeline//DE
CALSCALE:GREGORIAN
METHOD:PUBLISH
X-WR-CALNAME:Projekt TNW_HLS_Bundesverband Deutscher Bestatter e.V._Erweiterung A
X-WR-TIMEZONE:Europe/Berlin
BEGIN:VEVENT
UID:02e5c4f0ae75ba9c@ausschreibungsradar.com
DTSTAMP:20260424T202019Z
DTSTART;VALUE=DATE:20241128
DTEND;VALUE=DATE:20241128
SUMMARY:Ausschreibung — TNW_HLS_Bundesverband Deutscher Bestatter e.V._Erweiterung A
DESCRIPTION:Phase: Ausschreibung | Beschreibung: Angebote werden eingeholt | Link: https://ausschreibungsradar.com/ausschreibung/fa2dabed-8834-4523-a8c3-1d915af4a42a/
URL:https://ausschreibungsradar.com/ausschreibung/fa2dabed-8834-4523-a8c3-1d915af4a42a/
END:VEVENT
BEGIN:VEVENT
UID:91d78a21a2752b24@ausschreibungsradar.com
DTSTAMP:20260424T202019Z
DTSTART;VALUE=DATE:20241128
DTEND;VALUE=DATE:20241128
SUMMARY:Ausschreibung — TNW_HLS_Bundesverband Deutscher Bestatter e.V._Erweiterung A
DESCRIPTION:Phase: Ausschreibung | Beschreibung: Offizielle Ausschreibung mit Bieterfrist. | Link: https://ausschreibungsradar.com/ausschreibung/c26f56c6-db07-4190-93e0-f03aeee9c397/
URL:https://ausschreibungsradar.com/ausschreibung/c26f56c6-db07-4190-93e0-f03aeee9c397/
END:VEVENT
BEGIN:VEVENT
UID:6d7be37cae1388bc@ausschreibungsradar.com
DTSTAMP:20260424T202019Z
DTSTART;VALUE=DATE:20250313
DTEND;VALUE=DATE:20250313
SUMMARY:Vergabeergebnis — TNW_HLS_Bundesverband Deutscher Bestatter e.V._Erweiterung A
DESCRIPTION:Phase: Vergabeergebnis | Beschreibung: Keine Angebote eingegangen | Link: https://ausschreibungsradar.com/ausschreibung/18164fc8-0fbd-431e-8039-1317ed908888/
URL:https://ausschreibungsradar.com/ausschreibung/18164fc8-0fbd-431e-8039-1317ed908888/
END:VEVENT
END:VCALENDAR
