BEGIN:VCALENDAR
VERSION:2.0
PRODID:-//AusschreibungsRadar//Timeline//DE
CALSCALE:GREGORIAN
METHOD:PUBLISH
X-WR-CALNAME:Projekt Ingenieurleistungen zur Gewässer- und Auenentwicklungsmaßnah
X-WR-TIMEZONE:Europe/Berlin
BEGIN:VEVENT
UID:65f909d5c9eac443@ausschreibungsradar.com
DTSTAMP:20260424T071148Z
DTSTART;VALUE=DATE:20241211
DTEND;VALUE=DATE:20241211
SUMMARY:Ausschreibung — Ingenieurleistungen zur Gewässer- und Auenentwicklungsmaßnah
DESCRIPTION:Phase: Ausschreibung | Beschreibung: Angebote werden eingeholt | Link: https://ausschreibungsradar.com/ausschreibung/fa2ec80d-3db6-4a04-bd0b-c36035373fb4/
URL:https://ausschreibungsradar.com/ausschreibung/fa2ec80d-3db6-4a04-bd0b-c36035373fb4/
END:VEVENT
BEGIN:VEVENT
UID:0e169845233cfd0f@ausschreibungsradar.com
DTSTAMP:20260424T071148Z
DTSTART;VALUE=DATE:20250403
DTEND;VALUE=DATE:20250403
SUMMARY:Vergabeergebnis — Ingenieurleistungen zur Gewässer- und Auenentwicklungsmaßnah
DESCRIPTION:Phase: Vergabeergebnis | Beschreibung: Auftrag wurde zugeschlagen | Link: https://ausschreibungsradar.com/ausschreibung/fcb73b22-fcef-481c-b7c0-f46bf7f1f31c/
URL:https://ausschreibungsradar.com/ausschreibung/fcb73b22-fcef-481c-b7c0-f46bf7f1f31c/
END:VEVENT
END:VCALENDAR
