BEGIN:VCALENDAR
VERSION:2.0
PRODID:-//AusschreibungsRadar//Timeline//DE
CALSCALE:GREGORIAN
METHOD:PUBLISH
X-WR-CALNAME:Projekt Neubau einer Mensa mit Fachräumen an der Sekundarschule an d
X-WR-TIMEZONE:Europe/Berlin
BEGIN:VEVENT
UID:d2ab685b49dc4cfc@ausschreibungsradar.com
DTSTAMP:20260424T172703Z
DTSTART;VALUE=DATE:20251028
DTEND;VALUE=DATE:20251028
SUMMARY:Angebotsfrist — Neubau einer Mensa mit Fachräumen an der Sekundarschule an d
DESCRIPTION:Phase: Ausschreibung | Beschreibung: Angebote werden eingeholt | Link: https://ausschreibungsradar.com/ausschreibung/fa3a1281-c21d-454c-859b-2c972bbbd938/
URL:https://ausschreibungsradar.com/ausschreibung/fa3a1281-c21d-454c-859b-2c972bbbd938/
END:VEVENT
BEGIN:VEVENT
UID:8d0514ebb3a35500@ausschreibungsradar.com
DTSTAMP:20260424T172703Z
DTSTART;VALUE=DATE:20251218
DTEND;VALUE=DATE:20251218
SUMMARY:Vergabeergebnis — Neubau einer Mensa mit Fachräumen an der Sekundarschule an d
DESCRIPTION:Phase: Vergabeergebnis | Beschreibung: Auftrag wurde zugeschlagen | Link: https://ausschreibungsradar.com/ausschreibung/5f166abd-3649-4a63-92f2-311f7890fbf4/
URL:https://ausschreibungsradar.com/ausschreibung/5f166abd-3649-4a63-92f2-311f7890fbf4/
END:VEVENT
END:VCALENDAR
