BEGIN:VCALENDAR
VERSION:2.0
PRODID:-//AusschreibungsRadar//Timeline//DE
CALSCALE:GREGORIAN
METHOD:PUBLISH
X-WR-CALNAME:Projekt Erweiterung und Umbau Roßdorfschule Nürtingen - Leistungen d
X-WR-TIMEZONE:Europe/Berlin
BEGIN:VEVENT
UID:c6fd77d44256f063@ausschreibungsradar.com
DTSTAMP:20260425T124304Z
DTSTART;VALUE=DATE:20241111
DTEND;VALUE=DATE:20241111
SUMMARY:Zuschlag — Erweiterung und Umbau Roßdorfschule Nürtingen - Leistungen d
DESCRIPTION:Phase: Zuschlag | Beschreibung: Vergabeergebnis — Auftrag wurde erteilt oder Verfahren beendet. | Link: https://ausschreibungsradar.com/ausschreibung/8ba7776d-9de7-4e19-a03f-aef3be22164e/
URL:https://ausschreibungsradar.com/ausschreibung/8ba7776d-9de7-4e19-a03f-aef3be22164e/
END:VEVENT
BEGIN:VEVENT
UID:4eac0c1632b62022@ausschreibungsradar.com
DTSTAMP:20260425T124304Z
DTSTART;VALUE=DATE:20241121
DTEND;VALUE=DATE:20241121
SUMMARY:Zuschlag — Erweiterung und Umbau Roßdorfschule Nürtingen - Leistungen d
DESCRIPTION:Phase: Zuschlag | Beschreibung: Vergabeergebnis — Auftrag wurde erteilt oder Verfahren beendet. | Link: https://ausschreibungsradar.com/ausschreibung/fab2acc8-640e-4d1a-9431-457b059aa032/
URL:https://ausschreibungsradar.com/ausschreibung/fab2acc8-640e-4d1a-9431-457b059aa032/
END:VEVENT
END:VCALENDAR
