BEGIN:VCALENDAR
VERSION:2.0
PRODID:-//AusschreibungsRadar//Timeline//DE
CALSCALE:GREGORIAN
METHOD:PUBLISH
X-WR-CALNAME:Projekt Generalsanierung des Gilardi-Anwesens Haupthaus, Gewerk 2560
X-WR-TIMEZONE:Europe/Berlin
BEGIN:VEVENT
UID:60501812bfabb72f@ausschreibungsradar.com
DTSTAMP:20260424T102835Z
DTSTART;VALUE=DATE:20251022
DTEND;VALUE=DATE:20251022
SUMMARY:Angebotsfrist — Generalsanierung des Gilardi-Anwesens Haupthaus\, Gewerk 2560
DESCRIPTION:Phase: Ausschreibung | Beschreibung: Angebote werden eingeholt | Link: https://ausschreibungsradar.com/ausschreibung/d0fa3fb0-0157-4bf5-b635-b9aacdd75afd/
URL:https://ausschreibungsradar.com/ausschreibung/d0fa3fb0-0157-4bf5-b635-b9aacdd75afd/
END:VEVENT
BEGIN:VEVENT
UID:f41f1a7b96a2fd14@ausschreibungsradar.com
DTSTAMP:20260424T102835Z
DTSTART;VALUE=DATE:20251204
DTEND;VALUE=DATE:20251204
SUMMARY:Vergabeergebnis — Generalsanierung des Gilardi-Anwesens Haupthaus\, Gewerk 2560
DESCRIPTION:Phase: Vergabeergebnis | Beschreibung: Auftrag wurde zugeschlagen | Link: https://ausschreibungsradar.com/ausschreibung/fac3b97c-73ed-4331-b7f9-e30dd7b1d4c7/
URL:https://ausschreibungsradar.com/ausschreibung/fac3b97c-73ed-4331-b7f9-e30dd7b1d4c7/
END:VEVENT
BEGIN:VEVENT
UID:0073983f104c3dd8@ausschreibungsradar.com
DTSTAMP:20260424T102835Z
DTSTART;VALUE=DATE:20251204
DTEND;VALUE=DATE:20251204
SUMMARY:Zuschlag — Generalsanierung des Gilardi-Anwesens Haupthaus\, Gewerk 2560
DESCRIPTION:Phase: Zuschlag | Beschreibung: Vergabeergebnis — Auftrag wurde erteilt oder Verfahren beendet. | Link: https://ausschreibungsradar.com/ausschreibung/b831446c-3a78-43aa-979e-d959ad1450f2/
URL:https://ausschreibungsradar.com/ausschreibung/b831446c-3a78-43aa-979e-d959ad1450f2/
END:VEVENT
BEGIN:VEVENT
UID:fd422ced12bd53f2@ausschreibungsradar.com
DTSTAMP:20260424T102835Z
DTSTART;VALUE=DATE:20251204
DTEND;VALUE=DATE:20251204
SUMMARY:Zuschlag — Generalsanierung des Gilardi-Anwesens Haupthaus\, Gewerk 2560
DESCRIPTION:Phase: Zuschlag | Beschreibung: Vergabeergebnis — Auftrag wurde erteilt oder Verfahren beendet. | Link: https://ausschreibungsradar.com/ausschreibung/77f45fc9-9ecb-4672-a59b-5ba24e2a7c88/
URL:https://ausschreibungsradar.com/ausschreibung/77f45fc9-9ecb-4672-a59b-5ba24e2a7c88/
END:VEVENT
BEGIN:VEVENT
UID:2e1f697f9933b445@ausschreibungsradar.com
DTSTAMP:20260424T102835Z
DTSTART;VALUE=DATE:20251204
DTEND;VALUE=DATE:20251204
SUMMARY:Zuschlag — Generalsanierung des Gilardi-Anwesens Haupthaus\, Gewerk 2560
DESCRIPTION:Phase: Zuschlag | Beschreibung: Vergabeergebnis — Auftrag wurde erteilt oder Verfahren beendet. | Link: https://ausschreibungsradar.com/ausschreibung/1c212010-7fd5-4ba4-8237-e0576935f1cd/
URL:https://ausschreibungsradar.com/ausschreibung/1c212010-7fd5-4ba4-8237-e0576935f1cd/
END:VEVENT
END:VCALENDAR
