BEGIN:VCALENDAR
VERSION:2.0
PRODID:-//AusschreibungsRadar//Timeline//DE
CALSCALE:GREGORIAN
METHOD:PUBLISH
X-WR-CALNAME:Projekt Beschaffung eines Logic Analyzer 4 Gb/s_68CH
X-WR-TIMEZONE:Europe/Berlin
BEGIN:VEVENT
UID:81d2010bc5001b2f@ausschreibungsradar.com
DTSTAMP:20260424T063003Z
DTSTART;VALUE=DATE:20260428
DTEND;VALUE=DATE:20260428
SUMMARY:Angebotsfrist — Beschaffung eines Logic Analyzer 4 Gb/s_68CH
DESCRIPTION:Phase: Ausschreibung | Beschreibung: Angebote werden eingeholt | Link: https://ausschreibungsradar.com/ausschreibung/fb0c773f-df52-4065-8fcc-345817ba0c1d/
URL:https://ausschreibungsradar.com/ausschreibung/fb0c773f-df52-4065-8fcc-345817ba0c1d/
END:VEVENT
END:VCALENDAR
