BEGIN:VCALENDAR
VERSION:2.0
PRODID:-//AusschreibungsRadar//Timeline//DE
CALSCALE:GREGORIAN
METHOD:PUBLISH
X-WR-CALNAME:Projekt 31EU/25 041.1 - Abwasser-, Wasser-, Gasanlagen - Hauptfeuerw
X-WR-TIMEZONE:Europe/Berlin
BEGIN:VEVENT
UID:17c77922cb986f42@ausschreibungsradar.com
DTSTAMP:20260425T124312Z
DTSTART;VALUE=DATE:20250606
DTEND;VALUE=DATE:20250606
SUMMARY:Ausschreibung — 31EU/25 041.1 - Abwasser-\, Wasser-\, Gasanlagen - Hauptfeuerw
DESCRIPTION:Phase: Ausschreibung | Beschreibung: Angebote werden eingeholt | Link: https://ausschreibungsradar.com/ausschreibung/e8491797-9734-4505-8d7c-f3ec5c8d98fd/
URL:https://ausschreibungsradar.com/ausschreibung/e8491797-9734-4505-8d7c-f3ec5c8d98fd/
END:VEVENT
BEGIN:VEVENT
UID:3cc66f1a1fc8bc58@ausschreibungsradar.com
DTSTAMP:20260425T124312Z
DTSTART;VALUE=DATE:20250904
DTEND;VALUE=DATE:20250904
SUMMARY:Vergabeergebnis — 31EU/25 041.1 - Abwasser-\, Wasser-\, Gasanlagen - Hauptfeuerw
DESCRIPTION:Phase: Vergabeergebnis | Beschreibung: Auftrag wurde zugeschlagen | Link: https://ausschreibungsradar.com/ausschreibung/fb2c0ea0-ac13-4948-8204-060bab72de0b/
URL:https://ausschreibungsradar.com/ausschreibung/fb2c0ea0-ac13-4948-8204-060bab72de0b/
END:VEVENT
END:VCALENDAR
