BEGIN:VCALENDAR
VERSION:2.0
PRODID:-//AusschreibungsRadar//Timeline//DE
CALSCALE:GREGORIAN
METHOD:PUBLISH
X-WR-CALNAME:Projekt Erw. Gesamtschule Verl; Estricharbeiten Neubau
X-WR-TIMEZONE:Europe/Berlin
BEGIN:VEVENT
UID:9cf711b99f573b8e@ausschreibungsradar.com
DTSTAMP:20260424T151827Z
DTSTART;VALUE=DATE:20260226
DTEND;VALUE=DATE:20260226
SUMMARY:Angebotsfrist — Erw. Gesamtschule Verl\; Estricharbeiten Neubau
DESCRIPTION:Phase: Ausschreibung | Beschreibung: Angebote werden eingeholt | Link: https://ausschreibungsradar.com/ausschreibung/fb6c3a13-d70c-4974-bb5a-11849fc6d434/
URL:https://ausschreibungsradar.com/ausschreibung/fb6c3a13-d70c-4974-bb5a-11849fc6d434/
END:VEVENT
BEGIN:VEVENT
UID:46124ed16d3e2faa@ausschreibungsradar.com
DTSTAMP:20260424T151827Z
DTSTART;VALUE=DATE:20260421
DTEND;VALUE=DATE:20260421
SUMMARY:Vergabeergebnis — Erw. Gesamtschule Verl\; Estricharbeiten Neubau
DESCRIPTION:Phase: Vergabeergebnis | Beschreibung: Auftrag wurde zugeschlagen | Link: https://ausschreibungsradar.com/ausschreibung/e3761738-1a50-4966-b1d4-951b8cbd1f5a/
URL:https://ausschreibungsradar.com/ausschreibung/e3761738-1a50-4966-b1d4-951b8cbd1f5a/
END:VEVENT
END:VCALENDAR
