BEGIN:VCALENDAR
VERSION:2.0
PRODID:-//AusschreibungsRadar//Timeline//DE
CALSCALE:GREGORIAN
METHOD:PUBLISH
X-WR-CALNAME:Projekt Schreinerarbeiten Einbaumöbel Neubau Kita BLP
X-WR-TIMEZONE:Europe/Berlin
BEGIN:VEVENT
UID:838f4d3523962f08@ausschreibungsradar.com
DTSTAMP:20260425T235853Z
DTSTART;VALUE=DATE:20241121
DTEND;VALUE=DATE:20241121
SUMMARY:Angebotsfrist — Schreinerarbeiten Einbaumöbel Neubau Kita BLP
DESCRIPTION:Phase: Ausschreibung | Beschreibung: Angebote werden eingeholt | Link: https://ausschreibungsradar.com/ausschreibung/fb7a2d0f-9283-4871-9cd5-35ac24183723/
URL:https://ausschreibungsradar.com/ausschreibung/fb7a2d0f-9283-4871-9cd5-35ac24183723/
END:VEVENT
BEGIN:VEVENT
UID:eef8d4f54b741cae@ausschreibungsradar.com
DTSTAMP:20260425T235853Z
DTSTART;VALUE=DATE:20250226
DTEND;VALUE=DATE:20250226
SUMMARY:Vergabeergebnis — Schreinerarbeiten Einbaumöbel Neubau Kita BLP
DESCRIPTION:Phase: Vergabeergebnis | Beschreibung: Auftrag wurde zugeschlagen | Link: https://ausschreibungsradar.com/ausschreibung/6978f8d7-e0b3-4fd9-8c0b-87f6feea18e6/ | Auftragnehmer: Schreinerei Johannes Sail
URL:https://ausschreibungsradar.com/ausschreibung/6978f8d7-e0b3-4fd9-8c0b-87f6feea18e6/
END:VEVENT
END:VCALENDAR
