BEGIN:VCALENDAR
VERSION:2.0
PRODID:-//AusschreibungsRadar//Timeline//DE
CALSCALE:GREGORIAN
METHOD:PUBLISH
X-WR-CALNAME:Projekt Gutachten zum Eigenforschungsprojekt: Gesundheitliche Risike
X-WR-TIMEZONE:Europe/Berlin
BEGIN:VEVENT
UID:2f850cc4397e673c@ausschreibungsradar.com
DTSTAMP:20260424T090418Z
DTSTART;VALUE=DATE:20250403
DTEND;VALUE=DATE:20250403
SUMMARY:Ausschreibung — Gutachten zum Eigenforschungsprojekt: Gesundheitliche Risike
DESCRIPTION:Phase: Ausschreibung | Beschreibung: Angebote werden eingeholt | Link: https://ausschreibungsradar.com/ausschreibung/fb8ccc84-0bef-4288-b8c8-0d5b0e9f2fb2/
URL:https://ausschreibungsradar.com/ausschreibung/fb8ccc84-0bef-4288-b8c8-0d5b0e9f2fb2/
END:VEVENT
BEGIN:VEVENT
UID:f353f43ded650699@ausschreibungsradar.com
DTSTAMP:20260424T090418Z
DTSTART;VALUE=DATE:20250403
DTEND;VALUE=DATE:20250403
SUMMARY:Änderung — Gutachten zum Eigenforschungsprojekt: Gesundheitliche Risike
DESCRIPTION:Phase: Änderung | Beschreibung: Ausschreibung wurde angepasst | Link: https://ausschreibungsradar.com/ausschreibung/fb8ccc84-0bef-4288-b8c8-0d5b0e9f2fb2/
URL:https://ausschreibungsradar.com/ausschreibung/fb8ccc84-0bef-4288-b8c8-0d5b0e9f2fb2/
END:VEVENT
END:VCALENDAR
