BEGIN:VCALENDAR
VERSION:2.0
PRODID:-//AusschreibungsRadar//Timeline//DE
CALSCALE:GREGORIAN
METHOD:PUBLISH
X-WR-CALNAME:Projekt Schließanlage VHS, MS, Kiga
X-WR-TIMEZONE:Europe/Berlin
BEGIN:VEVENT
UID:242117dd02aa7449@ausschreibungsradar.com
DTSTAMP:20260426T004354Z
DTSTART;VALUE=DATE:20250613
DTEND;VALUE=DATE:20250613
SUMMARY:Angebotsfrist — Schließanlage VHS\, MS\, Kiga
DESCRIPTION:Phase: Ausschreibung | Beschreibung: Angebote werden eingeholt | Link: https://ausschreibungsradar.com/ausschreibung/fbce3e7e-b172-477f-a03b-67ec163a86bd/
URL:https://ausschreibungsradar.com/ausschreibung/fbce3e7e-b172-477f-a03b-67ec163a86bd/
END:VEVENT
BEGIN:VEVENT
UID:7459c4d415db2c93@ausschreibungsradar.com
DTSTAMP:20260426T004354Z
DTSTART;VALUE=DATE:20250714
DTEND;VALUE=DATE:20250714
SUMMARY:Vergabeergebnis — Schließanlage VHS\, MS\, Kiga
DESCRIPTION:Phase: Vergabeergebnis | Beschreibung: Auftrag wurde zugeschlagen | Link: https://ausschreibungsradar.com/ausschreibung/76855447-4166-4360-9021-4c3cf9d35ccb/
URL:https://ausschreibungsradar.com/ausschreibung/76855447-4166-4360-9021-4c3cf9d35ccb/
END:VEVENT
END:VCALENDAR
