BEGIN:VCALENDAR
VERSION:2.0
PRODID:-//AusschreibungsRadar//Timeline//DE
CALSCALE:GREGORIAN
METHOD:PUBLISH
X-WR-CALNAME:Projekt Rohrpostanlage
X-WR-TIMEZONE:Europe/Berlin
BEGIN:VEVENT
UID:c5ea8e32913a5364@ausschreibungsradar.com
DTSTAMP:20260424T190444Z
DTSTART;VALUE=DATE:20251104
DTEND;VALUE=DATE:20251104
SUMMARY:Angebotsfrist — Rohrpostanlage
DESCRIPTION:Phase: Ausschreibung | Beschreibung: Angebote werden eingeholt | Link: https://ausschreibungsradar.com/ausschreibung/fc00e554-363a-45bb-8c4d-089dccb2a6fb/
URL:https://ausschreibungsradar.com/ausschreibung/fc00e554-363a-45bb-8c4d-089dccb2a6fb/
END:VEVENT
BEGIN:VEVENT
UID:35a265a114e5b004@ausschreibungsradar.com
DTSTAMP:20260424T190444Z
DTSTART;VALUE=DATE:20251218
DTEND;VALUE=DATE:20251218
SUMMARY:Vergabeergebnis — Rohrpostanlage
DESCRIPTION:Phase: Vergabeergebnis | Beschreibung: Auftrag wurde zugeschlagen | Link: https://ausschreibungsradar.com/ausschreibung/50f1088b-d048-46f6-9276-73fd29e46235/ | Auftragnehmer: Tuppi GmbH Rohrpost und F
URL:https://ausschreibungsradar.com/ausschreibung/50f1088b-d048-46f6-9276-73fd29e46235/
END:VEVENT
END:VCALENDAR
