BEGIN:VCALENDAR
VERSION:2.0
PRODID:-//AusschreibungsRadar//Timeline//DE
CALSCALE:GREGORIAN
METHOD:PUBLISH
X-WR-CALNAME:Projekt Einsammlung, Transport und Verwertung von Haushaltskunststof
X-WR-TIMEZONE:Europe/Berlin
BEGIN:VEVENT
UID:50ab57e954076582@ausschreibungsradar.com
DTSTAMP:20260425T163720Z
DTSTART;VALUE=DATE:20251016
DTEND;VALUE=DATE:20251016
SUMMARY:Angebotsfrist — Einsammlung\, Transport und Verwertung von Haushaltskunststof
DESCRIPTION:Phase: Ausschreibung | Beschreibung: Angebote werden eingeholt | Link: https://ausschreibungsradar.com/ausschreibung/fc336707-fb08-4a6c-a364-9c23dbe2320a/
URL:https://ausschreibungsradar.com/ausschreibung/fc336707-fb08-4a6c-a364-9c23dbe2320a/
END:VEVENT
END:VCALENDAR
