BEGIN:VCALENDAR
VERSION:2.0
PRODID:-//AusschreibungsRadar//Timeline//DE
CALSCALE:GREGORIAN
METHOD:PUBLISH
X-WR-CALNAME:Projekt Lieferung von Ökostrom 2025 (elektrische Energie und HKN)
X-WR-TIMEZONE:Europe/Berlin
BEGIN:VEVENT
UID:d18f4dd7edd2aa3d@ausschreibungsradar.com
DTSTAMP:20260425T140639Z
DTSTART;VALUE=DATE:20240913
DTEND;VALUE=DATE:20240913
SUMMARY:Ausschreibung — Lieferung von Ökostrom 2025 (elektrische Energie und HKN)
DESCRIPTION:Phase: Ausschreibung | Beschreibung: Angebote werden eingeholt | Link: https://ausschreibungsradar.com/ausschreibung/fc67b326-56cd-4855-9fd3-c8a1b2b6a7b0/ | Geschätzter Wert: 1250000 €
URL:https://ausschreibungsradar.com/ausschreibung/fc67b326-56cd-4855-9fd3-c8a1b2b6a7b0/
END:VEVENT
BEGIN:VEVENT
UID:316ef08a76cc2a16@ausschreibungsradar.com
DTSTAMP:20260425T140639Z
DTSTART;VALUE=DATE:20250325
DTEND;VALUE=DATE:20250325
SUMMARY:Vergabeergebnis — Lieferung von Ökostrom 2025 (elektrische Energie und HKN)
DESCRIPTION:Phase: Vergabeergebnis | Beschreibung: Auftrag wurde zugeschlagen | Link: https://ausschreibungsradar.com/ausschreibung/06c47a1a-4b60-4734-ab19-b1ff74941c2b/ | Auftragnehmer: EUROGATE Technical Servic
URL:https://ausschreibungsradar.com/ausschreibung/06c47a1a-4b60-4734-ab19-b1ff74941c2b/
END:VEVENT
END:VCALENDAR
