BEGIN:VCALENDAR
VERSION:2.0
PRODID:-//AusschreibungsRadar//Timeline//DE
CALSCALE:GREGORIAN
METHOD:PUBLISH
X-WR-CALNAME:Projekt ZV - Ahorn - Generalsanierung Johann-Gemmer-Grundschule - Sa
X-WR-TIMEZONE:Europe/Berlin
BEGIN:VEVENT
UID:5fc3fcc2b152212c@ausschreibungsradar.com
DTSTAMP:20260423T223620Z
DTSTART;VALUE=DATE:20250515
DTEND;VALUE=DATE:20250515
SUMMARY:Angebotsfrist — ZV - Ahorn - Generalsanierung Johann-Gemmer-Grundschule - Sa
DESCRIPTION:Phase: Ausschreibung | Beschreibung: Angebote werden eingeholt | Link: https://ausschreibungsradar.com/ausschreibung/fd77718a-6b5c-474a-8acf-1ee41d8d232a/
URL:https://ausschreibungsradar.com/ausschreibung/fd77718a-6b5c-474a-8acf-1ee41d8d232a/
END:VEVENT
BEGIN:VEVENT
UID:b0e487833a16f35a@ausschreibungsradar.com
DTSTAMP:20260423T223620Z
DTSTART;VALUE=DATE:20250428
DTEND;VALUE=DATE:20250428
SUMMARY:Ausschreibung — ZV - Ahorn - Generalsanierung Johann-Gemmer-Grundschule - Sa
DESCRIPTION:Phase: Ausschreibung | Beschreibung: Offizielle Ausschreibung mit Bieterfrist. | Link: https://ausschreibungsradar.com/ausschreibung/f4ed9c3b-338e-4cfa-a360-9c0637b546d7/
URL:https://ausschreibungsradar.com/ausschreibung/f4ed9c3b-338e-4cfa-a360-9c0637b546d7/
END:VEVENT
BEGIN:VEVENT
UID:2da49edaaf041eaa@ausschreibungsradar.com
DTSTAMP:20260423T223620Z
DTSTART;VALUE=DATE:20250428
DTEND;VALUE=DATE:20250428
SUMMARY:Ausschreibung — ZV - Ahorn - Generalsanierung Johann-Gemmer-Grundschule - Sa
DESCRIPTION:Phase: Ausschreibung | Beschreibung: Offizielle Ausschreibung mit Bieterfrist. | Link: https://ausschreibungsradar.com/ausschreibung/5d5f6801-ead3-4190-ba32-59e3bd72707a/
URL:https://ausschreibungsradar.com/ausschreibung/5d5f6801-ead3-4190-ba32-59e3bd72707a/
END:VEVENT
BEGIN:VEVENT
UID:c7ef1098411ab92a@ausschreibungsradar.com
DTSTAMP:20260423T223620Z
DTSTART;VALUE=DATE:20250513
DTEND;VALUE=DATE:20250513
SUMMARY:Ausschreibung — ZV - Ahorn - Generalsanierung Johann-Gemmer-Grundschule - Sa
DESCRIPTION:Phase: Ausschreibung | Beschreibung: Offizielle Ausschreibung mit Bieterfrist. | Link: https://ausschreibungsradar.com/ausschreibung/2ed9789f-41d1-4b41-866a-3327da381d10/
URL:https://ausschreibungsradar.com/ausschreibung/2ed9789f-41d1-4b41-866a-3327da381d10/
END:VEVENT
BEGIN:VEVENT
UID:ef2d7b004a03db28@ausschreibungsradar.com
DTSTAMP:20260423T223620Z
DTSTART;VALUE=DATE:20250526
DTEND;VALUE=DATE:20250526
SUMMARY:Ausschreibung — ZV - Ahorn - Generalsanierung Johann-Gemmer-Grundschule - Sa
DESCRIPTION:Phase: Ausschreibung | Beschreibung: Offizielle Ausschreibung mit Bieterfrist. | Link: https://ausschreibungsradar.com/ausschreibung/733cbba8-125c-4fcc-b04d-6ce065c6dc18/
URL:https://ausschreibungsradar.com/ausschreibung/733cbba8-125c-4fcc-b04d-6ce065c6dc18/
END:VEVENT
BEGIN:VEVENT
UID:c09bfe560724dc1c@ausschreibungsradar.com
DTSTAMP:20260423T223620Z
DTSTART;VALUE=DATE:20250721
DTEND;VALUE=DATE:20250721
SUMMARY:Vergabeergebnis — ZV - Ahorn - Generalsanierung Johann-Gemmer-Grundschule - Sa
DESCRIPTION:Phase: Vergabeergebnis | Beschreibung: Auftrag wurde zugeschlagen | Link: https://ausschreibungsradar.com/ausschreibung/22839ce4-5952-413a-bb90-c9948d877aa7/
URL:https://ausschreibungsradar.com/ausschreibung/22839ce4-5952-413a-bb90-c9948d877aa7/
END:VEVENT
END:VCALENDAR
