BEGIN:VCALENDAR
VERSION:2.0
PRODID:-//AusschreibungsRadar//Timeline//DE
CALSCALE:GREGORIAN
METHOD:PUBLISH
X-WR-CALNAME:Projekt LungenClinic 2180 LV 51 Versorgungsanlagen
X-WR-TIMEZONE:Europe/Berlin
BEGIN:VEVENT
UID:9e8fc13897478ec7@ausschreibungsradar.com
DTSTAMP:20260426T021316Z
DTSTART;VALUE=DATE:20240712
DTEND;VALUE=DATE:20240712
SUMMARY:Angebotsfrist — LungenClinic 2180 LV 51 Versorgungsanlagen
DESCRIPTION:Phase: Ausschreibung | Beschreibung: Angebote werden eingeholt | Link: https://ausschreibungsradar.com/ausschreibung/fdbd2e1d-7928-482f-b43b-10016838fbf5/
URL:https://ausschreibungsradar.com/ausschreibung/fdbd2e1d-7928-482f-b43b-10016838fbf5/
END:VEVENT
END:VCALENDAR
