BEGIN:VCALENDAR
VERSION:2.0
PRODID:-//AusschreibungsRadar//Timeline//DE
CALSCALE:GREGORIAN
METHOD:PUBLISH
X-WR-CALNAME:Projekt Austausch Lüftungsanlagen KuKO + Hotel Weingarten, Planungsl
X-WR-TIMEZONE:Europe/Berlin
BEGIN:VEVENT
UID:4c4ab7d2d78898bc@ausschreibungsradar.com
DTSTAMP:20260425T023154Z
DTSTART;VALUE=DATE:20250422
DTEND;VALUE=DATE:20250422
SUMMARY:Ausschreibung — Austausch Lüftungsanlagen KuKO + Hotel Weingarten\, Planungsl
DESCRIPTION:Phase: Ausschreibung | Beschreibung: Angebote werden eingeholt | Link: https://ausschreibungsradar.com/ausschreibung/51d78be7-2d69-4445-bbc8-a736d9a5d9e4/
URL:https://ausschreibungsradar.com/ausschreibung/51d78be7-2d69-4445-bbc8-a736d9a5d9e4/
END:VEVENT
BEGIN:VEVENT
UID:6bf6c3d3859aabab@ausschreibungsradar.com
DTSTAMP:20260425T023154Z
DTSTART;VALUE=DATE:20251204
DTEND;VALUE=DATE:20251204
SUMMARY:Vergabeergebnis — Austausch Lüftungsanlagen KuKO + Hotel Weingarten\, Planungsl
DESCRIPTION:Phase: Vergabeergebnis | Beschreibung: Auftrag wurde zugeschlagen | Link: https://ausschreibungsradar.com/ausschreibung/fdd4a1d2-219a-4c52-97c7-e2f8f20cc5d6/
URL:https://ausschreibungsradar.com/ausschreibung/fdd4a1d2-219a-4c52-97c7-e2f8f20cc5d6/
END:VEVENT
END:VCALENDAR
