BEGIN:VCALENDAR
VERSION:2.0
PRODID:-//AusschreibungsRadar//Timeline//DE
CALSCALE:GREGORIAN
METHOD:PUBLISH
X-WR-CALNAME:Projekt Sächs. Kompetenzz. Lausitzer Revier Königswartha Zentrum Fis
X-WR-TIMEZONE:Europe/Berlin
BEGIN:VEVENT
UID:ebc8f505fd469b17@ausschreibungsradar.com
DTSTAMP:20260425T234803Z
DTSTART;VALUE=DATE:20260112
DTEND;VALUE=DATE:20260112
SUMMARY:Angebotsfrist — Sächs. Kompetenzz. Lausitzer Revier Königswartha Zentrum Fis
DESCRIPTION:Phase: Ausschreibung | Beschreibung: Angebote werden eingeholt | Link: https://ausschreibungsradar.com/ausschreibung/01c563e0-ac7e-4960-9a26-382668fc639f/
URL:https://ausschreibungsradar.com/ausschreibung/01c563e0-ac7e-4960-9a26-382668fc639f/
END:VEVENT
BEGIN:VEVENT
UID:ad6e2300ff71354e@ausschreibungsradar.com
DTSTAMP:20260425T234803Z
DTSTART;VALUE=DATE:20260219
DTEND;VALUE=DATE:20260219
SUMMARY:Zuschlag — Sächs. Kompetenzz. Lausitzer Revier Königswartha Zentrum Fis
DESCRIPTION:Phase: Zuschlag | Beschreibung: Vergabeergebnis — Auftrag wurde erteilt oder Verfahren beendet. | Link: https://ausschreibungsradar.com/ausschreibung/31f0d72e-ceac-44c6-8b1d-ac97d020fafc/
URL:https://ausschreibungsradar.com/ausschreibung/31f0d72e-ceac-44c6-8b1d-ac97d020fafc/
END:VEVENT
BEGIN:VEVENT
UID:50f1595588bfeaed@ausschreibungsradar.com
DTSTAMP:20260425T234803Z
DTSTART;VALUE=DATE:20260311
DTEND;VALUE=DATE:20260311
SUMMARY:Vergabeergebnis — Sächs. Kompetenzz. Lausitzer Revier Königswartha Zentrum Fis
DESCRIPTION:Phase: Vergabeergebnis | Beschreibung: Auftrag wurde zugeschlagen | Link: https://ausschreibungsradar.com/ausschreibung/fdd5e217-2db1-4073-ad0d-7375562f2087/
URL:https://ausschreibungsradar.com/ausschreibung/fdd5e217-2db1-4073-ad0d-7375562f2087/
END:VEVENT
END:VCALENDAR
