BEGIN:VCALENDAR
VERSION:2.0
PRODID:-//AusschreibungsRadar//Timeline//DE
CALSCALE:GREGORIAN
METHOD:PUBLISH
X-WR-CALNAME:Projekt Grundschule Hepberg - Außenanlagen
X-WR-TIMEZONE:Europe/Berlin
BEGIN:VEVENT
UID:bd51747c6faac305@ausschreibungsradar.com
DTSTAMP:20260425T001123Z
DTSTART;VALUE=DATE:20240514
DTEND;VALUE=DATE:20240514
SUMMARY:Angebotsfrist — Grundschule Hepberg - Außenanlagen
DESCRIPTION:Phase: Ausschreibung | Beschreibung: Angebote werden eingeholt | Link: https://ausschreibungsradar.com/ausschreibung/fdec0df9-2699-42f0-a901-d2dfb12aa391/
URL:https://ausschreibungsradar.com/ausschreibung/fdec0df9-2699-42f0-a901-d2dfb12aa391/
END:VEVENT
BEGIN:VEVENT
UID:de273df199387d81@ausschreibungsradar.com
DTSTAMP:20260425T001123Z
DTSTART;VALUE=DATE:20240409
DTEND;VALUE=DATE:20240409
SUMMARY:Ausschreibung — Grundschule Hepberg - Außenanlagen
DESCRIPTION:Phase: Ausschreibung | Beschreibung: Offizielle Ausschreibung mit Bieterfrist. | Link: https://ausschreibungsradar.com/ausschreibung/750c36dd-1dee-4f24-822a-a2298f4f5e0c/
URL:https://ausschreibungsradar.com/ausschreibung/750c36dd-1dee-4f24-822a-a2298f4f5e0c/
END:VEVENT
END:VCALENDAR
