BEGIN:VCALENDAR
VERSION:2.0
PRODID:-//AusschreibungsRadar//Timeline//DE
CALSCALE:GREGORIAN
METHOD:PUBLISH
X-WR-CALNAME:Projekt Neubau einer Mensa in Holz-Hybridbauweise mit multifunktiona
X-WR-TIMEZONE:Europe/Berlin
BEGIN:VEVENT
UID:3fb75231ebad5436@ausschreibungsradar.com
DTSTAMP:20260425T184659Z
DTSTART;VALUE=DATE:20251002
DTEND;VALUE=DATE:20251002
SUMMARY:Ausschreibung — Neubau einer Mensa in Holz-Hybridbauweise mit multifunktiona
DESCRIPTION:Phase: Ausschreibung | Beschreibung: Offizielle Ausschreibung mit Bieterfrist. | Link: https://ausschreibungsradar.com/ausschreibung/0babc41e-0833-4889-bf86-ac4517f65dc4/
URL:https://ausschreibungsradar.com/ausschreibung/0babc41e-0833-4889-bf86-ac4517f65dc4/
END:VEVENT
BEGIN:VEVENT
UID:61934378f2e15a4b@ausschreibungsradar.com
DTSTAMP:20260425T184659Z
DTSTART;VALUE=DATE:20251119
DTEND;VALUE=DATE:20251119
SUMMARY:Angebotsfrist — Neubau einer Mensa in Holz-Hybridbauweise mit multifunktiona
DESCRIPTION:Phase: Ausschreibung | Beschreibung: Angebote werden eingeholt | Link: https://ausschreibungsradar.com/ausschreibung/fe333101-b68b-4574-b6ce-580acb66905e/
URL:https://ausschreibungsradar.com/ausschreibung/fe333101-b68b-4574-b6ce-580acb66905e/
END:VEVENT
BEGIN:VEVENT
UID:01f6df9926696930@ausschreibungsradar.com
DTSTAMP:20260425T184659Z
DTSTART;VALUE=DATE:20260204
DTEND;VALUE=DATE:20260204
SUMMARY:Vergabeergebnis — Neubau einer Mensa in Holz-Hybridbauweise mit multifunktiona
DESCRIPTION:Phase: Vergabeergebnis | Beschreibung: Auftrag wurde zugeschlagen | Link: https://ausschreibungsradar.com/ausschreibung/f56b8869-ebff-41bd-aeac-24c3c9bab55a/
URL:https://ausschreibungsradar.com/ausschreibung/f56b8869-ebff-41bd-aeac-24c3c9bab55a/
END:VEVENT
END:VCALENDAR
