BEGIN:VCALENDAR
VERSION:2.0
PRODID:-//AusschreibungsRadar//Timeline//DE
CALSCALE:GREGORIAN
METHOD:PUBLISH
X-WR-CALNAME:Projekt Abschluss einer Rahmenvereinbarung über die Lieferung von He
X-WR-TIMEZONE:Europe/Berlin
BEGIN:VEVENT
UID:ceb755064f0e0b50@ausschreibungsradar.com
DTSTAMP:20260425T121242Z
DTSTART;VALUE=DATE:20251007
DTEND;VALUE=DATE:20251007
SUMMARY:Ausschreibung — Abschluss einer Rahmenvereinbarung über die Lieferung von He
DESCRIPTION:Phase: Ausschreibung | Beschreibung: Offizielle Ausschreibung mit Bieterfrist. | Link: https://ausschreibungsradar.com/ausschreibung/24498506/
URL:https://ausschreibungsradar.com/ausschreibung/24498506/
END:VEVENT
BEGIN:VEVENT
UID:b5f6aa27a2b33f69@ausschreibungsradar.com
DTSTAMP:20260425T121242Z
DTSTART;VALUE=DATE:20260116
DTEND;VALUE=DATE:20260116
SUMMARY:Angebotsfrist — Abschluss einer Rahmenvereinbarung über die Lieferung von He
DESCRIPTION:Phase: Ausschreibung | Beschreibung: Angebote werden eingeholt | Link: https://ausschreibungsradar.com/ausschreibung/fec655c8-f29c-4dfc-b68f-702969d5e313/
URL:https://ausschreibungsradar.com/ausschreibung/fec655c8-f29c-4dfc-b68f-702969d5e313/
END:VEVENT
BEGIN:VEVENT
UID:2b55cdbb57967622@ausschreibungsradar.com
DTSTAMP:20260425T121242Z
DTSTART;VALUE=DATE:20251016
DTEND;VALUE=DATE:20251016
SUMMARY:Ausschreibung — Abschluss einer Rahmenvereinbarung über die Lieferung von He
DESCRIPTION:Phase: Ausschreibung | Beschreibung: Offizielle Ausschreibung mit Bieterfrist. | Link: https://ausschreibungsradar.com/ausschreibung/9a8acdc1-8e7a-446c-8809-423d7f79eec9/
URL:https://ausschreibungsradar.com/ausschreibung/9a8acdc1-8e7a-446c-8809-423d7f79eec9/
END:VEVENT
BEGIN:VEVENT
UID:625da9338918b307@ausschreibungsradar.com
DTSTAMP:20260425T121242Z
DTSTART;VALUE=DATE:20251016
DTEND;VALUE=DATE:20251016
SUMMARY:Ausschreibung — Abschluss einer Rahmenvereinbarung über die Lieferung von He
DESCRIPTION:Phase: Ausschreibung | Beschreibung: Offizielle Ausschreibung mit Bieterfrist. | Link: https://ausschreibungsradar.com/ausschreibung/e5405bc8-dcb0-4b9e-933c-5d2bf387420e/
URL:https://ausschreibungsradar.com/ausschreibung/e5405bc8-dcb0-4b9e-933c-5d2bf387420e/
END:VEVENT
END:VCALENDAR
